BEGIN:VCALENDAR
VERSION:2.0
PRODID:-//Vaccinate Indiana - ECPv6.15.20//NONSGML v1.0//EN
CALSCALE:GREGORIAN
METHOD:PUBLISH
X-WR-CALNAME:Vaccinate Indiana
X-ORIGINAL-URL:https://vaccinateindiana.org
X-WR-CALDESC:Events for Vaccinate Indiana
REFRESH-INTERVAL;VALUE=DURATION:PT1H
X-Robots-Tag:noindex
X-PUBLISHED-TTL:PT1H
BEGIN:VTIMEZONE
TZID:America/Indiana/Indianapolis
BEGIN:DAYLIGHT
TZOFFSETFROM:-0500
TZOFFSETTO:-0400
TZNAME:EDT
DTSTART:20240310T070000
END:DAYLIGHT
BEGIN:STANDARD
TZOFFSETFROM:-0400
TZOFFSETTO:-0500
TZNAME:EST
DTSTART:20241103T060000
END:STANDARD
BEGIN:DAYLIGHT
TZOFFSETFROM:-0500
TZOFFSETTO:-0400
TZNAME:EDT
DTSTART:20250309T070000
END:DAYLIGHT
BEGIN:STANDARD
TZOFFSETFROM:-0400
TZOFFSETTO:-0500
TZNAME:EST
DTSTART:20251102T060000
END:STANDARD
BEGIN:DAYLIGHT
TZOFFSETFROM:-0500
TZOFFSETTO:-0400
TZNAME:EDT
DTSTART:20260308T070000
END:DAYLIGHT
BEGIN:STANDARD
TZOFFSETFROM:-0400
TZOFFSETTO:-0500
TZNAME:EST
DTSTART:20261101T060000
END:STANDARD
END:VTIMEZONE
BEGIN:VEVENT
DTSTART;TZID=America/Indiana/Indianapolis:20251022T110000
DTEND;TZID=America/Indiana/Indianapolis:20251022T130000
DTSTAMP:20260419T124551
CREATED:20250910T122634Z
LAST-MODIFIED:20250910T122634Z
UID:10903-1761130800-1761138000@vaccinateindiana.org
SUMMARY:Second Helpings
DESCRIPTION:
URL:https://vaccinateindiana.org/event/second-helpings/
LOCATION:Second Helpings\, 1121 Southeastern Ave\, Indianapolis\, IN\, United States
GEO:39.766153;-86.139334
X-APPLE-STRUCTURED-LOCATION;VALUE=URI;X-ADDRESS=Second Helpings 1121 Southeastern Ave Indianapolis IN United States;X-APPLE-RADIUS=500;X-TITLE=1121 Southeastern Ave:geo:-86.139334,39.766153
END:VEVENT
END:VCALENDAR