BEGIN:VCALENDAR
VERSION:2.0
PRODID:-//Vaccinate Indiana - ECPv6.15.20//NONSGML v1.0//EN
CALSCALE:GREGORIAN
METHOD:PUBLISH
X-WR-CALNAME:Vaccinate Indiana
X-ORIGINAL-URL:https://vaccinateindiana.org
X-WR-CALDESC:Events for Vaccinate Indiana
REFRESH-INTERVAL;VALUE=DURATION:PT1H
X-Robots-Tag:noindex
X-PUBLISHED-TTL:PT1H
BEGIN:VTIMEZONE
TZID:America/Indiana/Indianapolis
BEGIN:DAYLIGHT
TZOFFSETFROM:-0500
TZOFFSETTO:-0400
TZNAME:EDT
DTSTART:20230312T070000
END:DAYLIGHT
BEGIN:STANDARD
TZOFFSETFROM:-0400
TZOFFSETTO:-0500
TZNAME:EST
DTSTART:20231105T060000
END:STANDARD
BEGIN:DAYLIGHT
TZOFFSETFROM:-0500
TZOFFSETTO:-0400
TZNAME:EDT
DTSTART:20240310T070000
END:DAYLIGHT
BEGIN:STANDARD
TZOFFSETFROM:-0400
TZOFFSETTO:-0500
TZNAME:EST
DTSTART:20241103T060000
END:STANDARD
BEGIN:DAYLIGHT
TZOFFSETFROM:-0500
TZOFFSETTO:-0400
TZNAME:EDT
DTSTART:20250309T070000
END:DAYLIGHT
BEGIN:STANDARD
TZOFFSETFROM:-0400
TZOFFSETTO:-0500
TZNAME:EST
DTSTART:20251102T060000
END:STANDARD
END:VTIMEZONE
BEGIN:VEVENT
DTSTART;TZID=America/Indiana/Indianapolis:20240515T113000
DTEND;TZID=America/Indiana/Indianapolis:20240515T143000
DTSTAMP:20260421T153538
CREATED:20240422T235443Z
LAST-MODIFIED:20240422T235443Z
UID:10130-1715772600-1715783400@vaccinateindiana.org
SUMMARY:Exodus Refugee Immigration
DESCRIPTION:
URL:https://vaccinateindiana.org/event/exodus-refugee-immigration/
LOCATION:Exodus Refugee Immigration Inc\, 2457 E Washington St a\, Indianapolis\, IN\, 46201\, United States
GEO:39.7673618;-86.1199676
X-APPLE-STRUCTURED-LOCATION;VALUE=URI;X-ADDRESS=Exodus Refugee Immigration Inc 2457 E Washington St a Indianapolis IN 46201 United States;X-APPLE-RADIUS=500;X-TITLE=2457 E Washington St a:geo:-86.1199676,39.7673618
END:VEVENT
END:VCALENDAR