BEGIN:VCALENDAR
VERSION:2.0
PRODID:-//Vaccinate Indiana - ECPv6.15.20//NONSGML v1.0//EN
CALSCALE:GREGORIAN
METHOD:PUBLISH
X-WR-CALNAME:Vaccinate Indiana
X-ORIGINAL-URL:https://vaccinateindiana.org
X-WR-CALDESC:Events for Vaccinate Indiana
REFRESH-INTERVAL;VALUE=DURATION:PT1H
X-Robots-Tag:noindex
X-PUBLISHED-TTL:PT1H
BEGIN:VTIMEZONE
TZID:America/Indiana/Indianapolis
BEGIN:DAYLIGHT
TZOFFSETFROM:-0500
TZOFFSETTO:-0400
TZNAME:EDT
DTSTART:20250309T070000
END:DAYLIGHT
BEGIN:STANDARD
TZOFFSETFROM:-0400
TZOFFSETTO:-0500
TZNAME:EST
DTSTART:20251102T060000
END:STANDARD
BEGIN:DAYLIGHT
TZOFFSETFROM:-0500
TZOFFSETTO:-0400
TZNAME:EDT
DTSTART:20260308T070000
END:DAYLIGHT
BEGIN:STANDARD
TZOFFSETFROM:-0400
TZOFFSETTO:-0500
TZNAME:EST
DTSTART:20261101T060000
END:STANDARD
BEGIN:DAYLIGHT
TZOFFSETFROM:-0500
TZOFFSETTO:-0400
TZNAME:EDT
DTSTART:20270314T070000
END:DAYLIGHT
BEGIN:STANDARD
TZOFFSETFROM:-0400
TZOFFSETTO:-0500
TZNAME:EST
DTSTART:20271107T060000
END:STANDARD
END:VTIMEZONE
BEGIN:VEVENT
DTSTART;TZID=America/Indiana/Indianapolis:20260518T090000
DTEND;TZID=America/Indiana/Indianapolis:20260518T150000
DTSTAMP:20260421T172426
CREATED:20251130T212124Z
LAST-MODIFIED:20260224T183844Z
UID:11061-1779094800-1779116400@vaccinateindiana.org
SUMMARY:Open Office Hours
DESCRIPTION:
URL:https://vaccinateindiana.org/event/open-office-hours-3/2026-05-18/
LOCATION:Indiana Immunization Coalition\, 6919 E 10th St Building C\, Suite 2\, Indianapolis\, IN\, 46219\, United States
GEO:39.763905;-86.073524
X-APPLE-STRUCTURED-LOCATION;VALUE=URI;X-ADDRESS=Indiana Immunization Coalition 6919 E 10th St Building C Suite 2 Indianapolis IN 46219 United States;X-APPLE-RADIUS=500;X-TITLE=6919 E 10th St Building C\, Suite 2:geo:-86.073524,39.763905
END:VEVENT
BEGIN:VEVENT
DTSTART;TZID=America/Indiana/Indianapolis:20260520T143000
DTEND;TZID=America/Indiana/Indianapolis:20260520T173000
DTSTAMP:20260421T172426
CREATED:20260224T183512Z
LAST-MODIFIED:20260224T183512Z
UID:11178-1779287400-1779298200@vaccinateindiana.org
SUMMARY:Franklin Township Annex Learning Center
DESCRIPTION:
URL:https://vaccinateindiana.org/event/franklin-township-annex-learning-center/
LOCATION:Franklin Township Annex Learning Center\, 6019 South Franklin Road\, Indianapolis\, IN\, 46259\, United States
GEO:39.6805571;-86.0168175
X-APPLE-STRUCTURED-LOCATION;VALUE=URI;X-ADDRESS=Franklin Township Annex Learning Center 6019 South Franklin Road Indianapolis IN 46259 United States;X-APPLE-RADIUS=500;X-TITLE=6019 South Franklin Road:geo:-86.0168175,39.6805571
END:VEVENT
BEGIN:VEVENT
DTSTART;TZID=America/Indiana/Indianapolis:20260521T150000
DTEND;TZID=America/Indiana/Indianapolis:20260521T180000
DTSTAMP:20260421T172426
CREATED:20260224T183553Z
LAST-MODIFIED:20260224T183553Z
UID:11179-1779375600-1779386400@vaccinateindiana.org
SUMMARY:North Elementary School
DESCRIPTION:Vaccine clinic will be in the gymnasium – southwest corner of the school
URL:https://vaccinateindiana.org/event/north-elementary-school-2/
LOCATION:North Elementary School\, 440 N 10th St\, Noblesville\, IN\, 46060\, United States
GEO:40.073328;-85.999521
X-APPLE-STRUCTURED-LOCATION;VALUE=URI;X-ADDRESS=North Elementary School 440 N 10th St Noblesville IN 46060 United States;X-APPLE-RADIUS=500;X-TITLE=440 N 10th St:geo:-85.999521,40.073328
END:VEVENT
END:VCALENDAR