BEGIN:VCALENDAR
VERSION:2.0
PRODID:-//Vaccinate Indiana - ECPv6.15.20//NONSGML v1.0//EN
CALSCALE:GREGORIAN
METHOD:PUBLISH
X-ORIGINAL-URL:https://vaccinateindiana.org
X-WR-CALDESC:Events for Vaccinate Indiana
REFRESH-INTERVAL;VALUE=DURATION:PT1H
X-Robots-Tag:noindex
X-PUBLISHED-TTL:PT1H
BEGIN:VTIMEZONE
TZID:America/Indiana/Indianapolis
BEGIN:DAYLIGHT
TZOFFSETFROM:-0500
TZOFFSETTO:-0400
TZNAME:EDT
DTSTART:20250309T070000
END:DAYLIGHT
BEGIN:STANDARD
TZOFFSETFROM:-0400
TZOFFSETTO:-0500
TZNAME:EST
DTSTART:20251102T060000
END:STANDARD
BEGIN:DAYLIGHT
TZOFFSETFROM:-0500
TZOFFSETTO:-0400
TZNAME:EDT
DTSTART:20260308T070000
END:DAYLIGHT
BEGIN:STANDARD
TZOFFSETFROM:-0400
TZOFFSETTO:-0500
TZNAME:EST
DTSTART:20261101T060000
END:STANDARD
BEGIN:DAYLIGHT
TZOFFSETFROM:-0500
TZOFFSETTO:-0400
TZNAME:EDT
DTSTART:20270314T070000
END:DAYLIGHT
BEGIN:STANDARD
TZOFFSETFROM:-0400
TZOFFSETTO:-0500
TZNAME:EST
DTSTART:20271107T060000
END:STANDARD
END:VTIMEZONE
BEGIN:VEVENT
DTSTART;TZID=America/Indiana/Indianapolis:20260330T090000
DTEND;TZID=America/Indiana/Indianapolis:20260330T150000
DTSTAMP:20260421T150838
CREATED:20251130T210641Z
LAST-MODIFIED:20260224T184547Z
UID:11042-1774861200-1774882800@vaccinateindiana.org
SUMMARY:IIC Versailles Clinic Hours
DESCRIPTION:
URL:https://vaccinateindiana.org/event/iic-versailles-clinic-hours-2/2026-03-30/
LOCATION:Indiana Immunization Coalition – Versailles\, 1154 South Ripley Estates Dr.\, Suite 1\, Versailles\, 47042\, United States
GEO:39.0598946;-85.2533476
X-APPLE-STRUCTURED-LOCATION;VALUE=URI;X-ADDRESS=Indiana Immunization Coalition – Versailles 1154 South Ripley Estates Dr. Suite 1 Versailles 47042 United States;X-APPLE-RADIUS=500;X-TITLE=1154 South Ripley Estates Dr.\, Suite 1:geo:-85.2533476,39.0598946
END:VEVENT
BEGIN:VEVENT
DTSTART;TZID=America/Indiana/Indianapolis:20260330T090000
DTEND;TZID=America/Indiana/Indianapolis:20260330T150000
DTSTAMP:20260421T150838
CREATED:20251130T212124Z
LAST-MODIFIED:20260224T183823Z
UID:11056-1774861200-1774882800@vaccinateindiana.org
SUMMARY:Open Office Hours
DESCRIPTION:
URL:https://vaccinateindiana.org/event/open-office-hours-3/2026-03-30/
LOCATION:Indiana Immunization Coalition\, 6919 E 10th St Building C\, Suite 2\, Indianapolis\, IN\, 46219\, United States
GEO:39.763905;-86.073524
X-APPLE-STRUCTURED-LOCATION;VALUE=URI;X-ADDRESS=Indiana Immunization Coalition 6919 E 10th St Building C Suite 2 Indianapolis IN 46219 United States;X-APPLE-RADIUS=500;X-TITLE=6919 E 10th St Building C\, Suite 2:geo:-86.073524,39.763905
END:VEVENT
BEGIN:VEVENT
DTSTART;TZID=America/Indiana/Indianapolis:20260331T110000
DTEND;TZID=America/Indiana/Indianapolis:20260331T130000
DTSTAMP:20260421T150838
CREATED:20260329T165640Z
LAST-MODIFIED:20260329T165640Z
UID:11207-1774954800-1774962000@vaccinateindiana.org
SUMMARY:(central) MHS Member Meeting
DESCRIPTION:
URL:https://vaccinateindiana.org/event/central-mhs-member-meeting/
LOCATION:122 N Main St\, 122 N Main St\, Crown Point\, IN\, 46307\, United States
END:VEVENT
BEGIN:VEVENT
DTSTART;TZID=America/Indiana/Indianapolis:20260404T100000
DTEND;TZID=America/Indiana/Indianapolis:20260404T120000
DTSTAMP:20260421T150838
CREATED:20260310T140857Z
LAST-MODIFIED:20260310T140857Z
UID:11191-1775296800-1775304000@vaccinateindiana.org
SUMMARY:Matchbook Learning @ Wendell Phillips School 63
DESCRIPTION:
URL:https://vaccinateindiana.org/event/matchbook-learning-wendell-phillips-school-63/
LOCATION:Matchbook Learning at Wendell Phillips 63\, 1163 N Belmont Ave\, Indianapolis\, IN\, 46222\, United States
GEO:39.7840126;-86.1959531
X-APPLE-STRUCTURED-LOCATION;VALUE=URI;X-ADDRESS=Matchbook Learning at Wendell Phillips 63 1163 N Belmont Ave Indianapolis IN 46222 United States;X-APPLE-RADIUS=500;X-TITLE=1163 N Belmont Ave:geo:-86.1959531,39.7840126
END:VEVENT
END:VCALENDAR