BEGIN:VCALENDAR
VERSION:2.0
PRODID:-//Vaccinate Indiana - ECPv6.15.20//NONSGML v1.0//EN
CALSCALE:GREGORIAN
METHOD:PUBLISH
X-WR-CALNAME:Vaccinate Indiana
X-ORIGINAL-URL:https://vaccinateindiana.org
X-WR-CALDESC:Events for Vaccinate Indiana
REFRESH-INTERVAL;VALUE=DURATION:PT1H
X-Robots-Tag:noindex
X-PUBLISHED-TTL:PT1H
BEGIN:VTIMEZONE
TZID:America/New_York
BEGIN:DAYLIGHT
TZOFFSETFROM:-0500
TZOFFSETTO:-0400
TZNAME:EDT
DTSTART:20240310T070000
END:DAYLIGHT
BEGIN:STANDARD
TZOFFSETFROM:-0400
TZOFFSETTO:-0500
TZNAME:EST
DTSTART:20241103T060000
END:STANDARD
BEGIN:DAYLIGHT
TZOFFSETFROM:-0500
TZOFFSETTO:-0400
TZNAME:EDT
DTSTART:20250309T070000
END:DAYLIGHT
BEGIN:STANDARD
TZOFFSETFROM:-0400
TZOFFSETTO:-0500
TZNAME:EST
DTSTART:20251102T060000
END:STANDARD
BEGIN:DAYLIGHT
TZOFFSETFROM:-0500
TZOFFSETTO:-0400
TZNAME:EDT
DTSTART:20260308T070000
END:DAYLIGHT
BEGIN:STANDARD
TZOFFSETFROM:-0400
TZOFFSETTO:-0500
TZNAME:EST
DTSTART:20261101T060000
END:STANDARD
END:VTIMEZONE
BEGIN:VTIMEZONE
TZID:America/Indiana/Indianapolis
BEGIN:DAYLIGHT
TZOFFSETFROM:-0500
TZOFFSETTO:-0400
TZNAME:EDT
DTSTART:20240310T070000
END:DAYLIGHT
BEGIN:STANDARD
TZOFFSETFROM:-0400
TZOFFSETTO:-0500
TZNAME:EST
DTSTART:20241103T060000
END:STANDARD
BEGIN:DAYLIGHT
TZOFFSETFROM:-0500
TZOFFSETTO:-0400
TZNAME:EDT
DTSTART:20250309T070000
END:DAYLIGHT
BEGIN:STANDARD
TZOFFSETFROM:-0400
TZOFFSETTO:-0500
TZNAME:EST
DTSTART:20251102T060000
END:STANDARD
BEGIN:DAYLIGHT
TZOFFSETFROM:-0500
TZOFFSETTO:-0400
TZNAME:EDT
DTSTART:20260308T070000
END:DAYLIGHT
BEGIN:STANDARD
TZOFFSETFROM:-0400
TZOFFSETTO:-0500
TZNAME:EST
DTSTART:20261101T060000
END:STANDARD
END:VTIMEZONE
BEGIN:VEVENT
DTSTART;TZID=America/New_York:20250811T090000
DTEND;TZID=America/New_York:20250811T150000
DTSTAMP:20260422T083223
CREATED:20240102T213949Z
LAST-MODIFIED:20250807T004120Z
UID:9855-1754902800-1754924400@vaccinateindiana.org
SUMMARY:Open Office Hours
DESCRIPTION:
URL:https://vaccinateindiana.org/event/open-office-hours-222/
LOCATION:Indiana Immunization Coalition\, 6919 E 10th St Building C\, Suite 2\, Indianapolis\, IN\, 46219\, United States
GEO:39.763905;-86.073524
X-APPLE-STRUCTURED-LOCATION;VALUE=URI;X-ADDRESS=Indiana Immunization Coalition 6919 E 10th St Building C Suite 2 Indianapolis IN 46219 United States;X-APPLE-RADIUS=500;X-TITLE=6919 E 10th St Building C\, Suite 2:geo:-86.073524,39.763905
END:VEVENT
BEGIN:VEVENT
DTSTART;TZID=America/Indiana/Indianapolis:20250811T090000
DTEND;TZID=America/Indiana/Indianapolis:20250811T150000
DTSTAMP:20260422T083223
CREATED:20250807T004209Z
LAST-MODIFIED:20250807T004209Z
UID:10845-1754902800-1754924400@vaccinateindiana.org
SUMMARY:Open Office Hours - Versailles
DESCRIPTION:
URL:https://vaccinateindiana.org/event/open-office-hours-versailles/
LOCATION:Indiana Immunization Coalition – Versailles\, 1154 South Ripley Estates Dr.\, Suite 1\, Versailles\, 47042\, United States
GEO:39.0598946;-85.2533476
X-APPLE-STRUCTURED-LOCATION;VALUE=URI;X-ADDRESS=Indiana Immunization Coalition – Versailles 1154 South Ripley Estates Dr. Suite 1 Versailles 47042 United States;X-APPLE-RADIUS=500;X-TITLE=1154 South Ripley Estates Dr.\, Suite 1:geo:-85.2533476,39.0598946
END:VEVENT
BEGIN:VEVENT
DTSTART;TZID=America/Indiana/Indianapolis:20250816T090000
DTEND;TZID=America/Indiana/Indianapolis:20250816T130000
DTSTAMP:20260422T083223
CREATED:20250425T192355Z
LAST-MODIFIED:20250425T192355Z
UID:10682-1755334800-1755349200@vaccinateindiana.org
SUMMARY:(Central) Reed's Temple
DESCRIPTION:
URL:https://vaccinateindiana.org/event/central-reeds-temple/
LOCATION:Reed’s Temple Church of God\, 1300 N Broad Street\, Griffith\, IN\, 46319\, United States
GEO:41.5451953;-87.4284834
X-APPLE-STRUCTURED-LOCATION;VALUE=URI;X-ADDRESS=Reed’s Temple Church of God 1300 N Broad Street Griffith IN 46319 United States;X-APPLE-RADIUS=500;X-TITLE=1300 N Broad Street:geo:-87.4284834,41.5451953
END:VEVENT
END:VCALENDAR