BEGIN:VCALENDAR
VERSION:2.0
PRODID:-//Vaccinate Indiana - ECPv6.15.20//NONSGML v1.0//EN
CALSCALE:GREGORIAN
METHOD:PUBLISH
X-ORIGINAL-URL:https://vaccinateindiana.org
X-WR-CALDESC:Events for Vaccinate Indiana
REFRESH-INTERVAL;VALUE=DURATION:PT1H
X-Robots-Tag:noindex
X-PUBLISHED-TTL:PT1H
BEGIN:VTIMEZONE
TZID:America/Indiana/Indianapolis
BEGIN:DAYLIGHT
TZOFFSETFROM:-0500
TZOFFSETTO:-0400
TZNAME:EDT
DTSTART:20250309T070000
END:DAYLIGHT
BEGIN:STANDARD
TZOFFSETFROM:-0400
TZOFFSETTO:-0500
TZNAME:EST
DTSTART:20251102T060000
END:STANDARD
BEGIN:DAYLIGHT
TZOFFSETFROM:-0500
TZOFFSETTO:-0400
TZNAME:EDT
DTSTART:20260308T070000
END:DAYLIGHT
BEGIN:STANDARD
TZOFFSETFROM:-0400
TZOFFSETTO:-0500
TZNAME:EST
DTSTART:20261101T060000
END:STANDARD
BEGIN:DAYLIGHT
TZOFFSETFROM:-0500
TZOFFSETTO:-0400
TZNAME:EDT
DTSTART:20270314T070000
END:DAYLIGHT
BEGIN:STANDARD
TZOFFSETFROM:-0400
TZOFFSETTO:-0500
TZNAME:EST
DTSTART:20271107T060000
END:STANDARD
END:VTIMEZONE
BEGIN:VEVENT
DTSTART;TZID=America/Indiana/Indianapolis:20260601T090000
DTEND;TZID=America/Indiana/Indianapolis:20260601T180000
DTSTAMP:20260425T101536
CREATED:20251130T212347Z
LAST-MODIFIED:20251130T212347Z
UID:11091-1780304400-1780336800@vaccinateindiana.org
SUMMARY:Open Office Hours
DESCRIPTION:
URL:https://vaccinateindiana.org/event/open-office-hours-4/2026-06-01/
LOCATION:Indiana Immunization Coalition\, 6919 E 10th St Building C\, Suite 2\, Indianapolis\, IN\, 46219\, United States
GEO:39.763905;-86.073524
X-APPLE-STRUCTURED-LOCATION;VALUE=URI;X-ADDRESS=Indiana Immunization Coalition 6919 E 10th St Building C Suite 2 Indianapolis IN 46219 United States;X-APPLE-RADIUS=500;X-TITLE=6919 E 10th St Building C\, Suite 2:geo:-86.073524,39.763905
END:VEVENT
BEGIN:VEVENT
DTSTART;TZID=America/Indiana/Indianapolis:20260601T090000
DTEND;TZID=America/Indiana/Indianapolis:20260601T180000
DTSTAMP:20260425T101536
CREATED:20260425T140936Z
LAST-MODIFIED:20260425T140936Z
UID:11356-1780304400-1780336800@vaccinateindiana.org
SUMMARY:IIC Versailles Clinic Hours
DESCRIPTION:
URL:https://vaccinateindiana.org/event/iic-versailles-clinic-hours-3/2026-06-01/
LOCATION:Indiana Immunization Coalition – Versailles\, 1154 South Ripley Estates Dr.\, Suite 1\, Versailles\, 47042\, United States
GEO:39.0598946;-85.2533476
X-APPLE-STRUCTURED-LOCATION;VALUE=URI;X-ADDRESS=Indiana Immunization Coalition – Versailles 1154 South Ripley Estates Dr. Suite 1 Versailles 47042 United States;X-APPLE-RADIUS=500;X-TITLE=1154 South Ripley Estates Dr.\, Suite 1:geo:-85.2533476,39.0598946
END:VEVENT
BEGIN:VEVENT
DTSTART;TZID=America/Indiana/Indianapolis:20260608T090000
DTEND;TZID=America/Indiana/Indianapolis:20260608T150000
DTSTAMP:20260425T101536
CREATED:20251130T210641Z
LAST-MODIFIED:20260425T141010Z
UID:11224-1780909200-1780930800@vaccinateindiana.org
SUMMARY:IIC Versailles Clinic Hours
DESCRIPTION:
URL:https://vaccinateindiana.org/event/iic-versailles-clinic-hours-2/2026-06-08/
LOCATION:Indiana Immunization Coalition – Versailles\, 1154 South Ripley Estates Dr.\, Suite 1\, Versailles\, 47042\, United States
GEO:39.0598946;-85.2533476
X-APPLE-STRUCTURED-LOCATION;VALUE=URI;X-ADDRESS=Indiana Immunization Coalition – Versailles 1154 South Ripley Estates Dr. Suite 1 Versailles 47042 United States;X-APPLE-RADIUS=500;X-TITLE=1154 South Ripley Estates Dr.\, Suite 1:geo:-85.2533476,39.0598946
END:VEVENT
BEGIN:VEVENT
DTSTART;TZID=America/Indiana/Indianapolis:20260608T090000
DTEND;TZID=America/Indiana/Indianapolis:20260608T150000
DTSTAMP:20260425T101536
CREATED:20251130T212124Z
LAST-MODIFIED:20260224T183844Z
UID:11063-1780909200-1780930800@vaccinateindiana.org
SUMMARY:Open Office Hours
DESCRIPTION:
URL:https://vaccinateindiana.org/event/open-office-hours-3/2026-06-08/
LOCATION:Indiana Immunization Coalition\, 6919 E 10th St Building C\, Suite 2\, Indianapolis\, IN\, 46219\, United States
GEO:39.763905;-86.073524
X-APPLE-STRUCTURED-LOCATION;VALUE=URI;X-ADDRESS=Indiana Immunization Coalition 6919 E 10th St Building C Suite 2 Indianapolis IN 46219 United States;X-APPLE-RADIUS=500;X-TITLE=6919 E 10th St Building C\, Suite 2:geo:-86.073524,39.763905
END:VEVENT
BEGIN:VEVENT
DTSTART;TZID=America/Indiana/Indianapolis:20260615T090000
DTEND;TZID=America/Indiana/Indianapolis:20260615T150000
DTSTAMP:20260425T101536
CREATED:20251130T210641Z
LAST-MODIFIED:20260425T141010Z
UID:11225-1781514000-1781535600@vaccinateindiana.org
SUMMARY:IIC Versailles Clinic Hours
DESCRIPTION:
URL:https://vaccinateindiana.org/event/iic-versailles-clinic-hours-2/2026-06-15/
LOCATION:Indiana Immunization Coalition – Versailles\, 1154 South Ripley Estates Dr.\, Suite 1\, Versailles\, 47042\, United States
GEO:39.0598946;-85.2533476
X-APPLE-STRUCTURED-LOCATION;VALUE=URI;X-ADDRESS=Indiana Immunization Coalition – Versailles 1154 South Ripley Estates Dr. Suite 1 Versailles 47042 United States;X-APPLE-RADIUS=500;X-TITLE=1154 South Ripley Estates Dr.\, Suite 1:geo:-85.2533476,39.0598946
END:VEVENT
BEGIN:VEVENT
DTSTART;TZID=America/Indiana/Indianapolis:20260615T090000
DTEND;TZID=America/Indiana/Indianapolis:20260615T150000
DTSTAMP:20260425T101536
CREATED:20251130T212124Z
LAST-MODIFIED:20260224T183844Z
UID:11064-1781514000-1781535600@vaccinateindiana.org
SUMMARY:Open Office Hours
DESCRIPTION:
URL:https://vaccinateindiana.org/event/open-office-hours-3/2026-06-15/
LOCATION:Indiana Immunization Coalition\, 6919 E 10th St Building C\, Suite 2\, Indianapolis\, IN\, 46219\, United States
GEO:39.763905;-86.073524
X-APPLE-STRUCTURED-LOCATION;VALUE=URI;X-ADDRESS=Indiana Immunization Coalition 6919 E 10th St Building C Suite 2 Indianapolis IN 46219 United States;X-APPLE-RADIUS=500;X-TITLE=6919 E 10th St Building C\, Suite 2:geo:-86.073524,39.763905
END:VEVENT
BEGIN:VEVENT
DTSTART;TZID=America/Indiana/Indianapolis:20260616T173000
DTEND;TZID=America/Indiana/Indianapolis:20260616T193000
DTSTAMP:20260425T101536
CREATED:20260224T184028Z
LAST-MODIFIED:20260224T184028Z
UID:11180-1781631000-1781638200@vaccinateindiana.org
SUMMARY:(Central) South Central Community School
DESCRIPTION:
URL:https://vaccinateindiana.org/event/central-south-central-community-school/
LOCATION:9808 S 600 W\, 9808 S 600 W\, Union Mills\, IN\, 46382\, United States
END:VEVENT
BEGIN:VEVENT
DTSTART;TZID=America/Indiana/Indianapolis:20260622T090000
DTEND;TZID=America/Indiana/Indianapolis:20260622T150000
DTSTAMP:20260425T101536
CREATED:20251130T210641Z
LAST-MODIFIED:20260425T141010Z
UID:11226-1782118800-1782140400@vaccinateindiana.org
SUMMARY:IIC Versailles Clinic Hours
DESCRIPTION:
URL:https://vaccinateindiana.org/event/iic-versailles-clinic-hours-2/2026-06-22/
LOCATION:Indiana Immunization Coalition – Versailles\, 1154 South Ripley Estates Dr.\, Suite 1\, Versailles\, 47042\, United States
GEO:39.0598946;-85.2533476
X-APPLE-STRUCTURED-LOCATION;VALUE=URI;X-ADDRESS=Indiana Immunization Coalition – Versailles 1154 South Ripley Estates Dr. Suite 1 Versailles 47042 United States;X-APPLE-RADIUS=500;X-TITLE=1154 South Ripley Estates Dr.\, Suite 1:geo:-85.2533476,39.0598946
END:VEVENT
BEGIN:VEVENT
DTSTART;TZID=America/Indiana/Indianapolis:20260622T090000
DTEND;TZID=America/Indiana/Indianapolis:20260622T150000
DTSTAMP:20260425T101536
CREATED:20251130T212124Z
LAST-MODIFIED:20260224T183844Z
UID:11065-1782118800-1782140400@vaccinateindiana.org
SUMMARY:Open Office Hours
DESCRIPTION:
URL:https://vaccinateindiana.org/event/open-office-hours-3/2026-06-22/
LOCATION:Indiana Immunization Coalition\, 6919 E 10th St Building C\, Suite 2\, Indianapolis\, IN\, 46219\, United States
GEO:39.763905;-86.073524
X-APPLE-STRUCTURED-LOCATION;VALUE=URI;X-ADDRESS=Indiana Immunization Coalition 6919 E 10th St Building C Suite 2 Indianapolis IN 46219 United States;X-APPLE-RADIUS=500;X-TITLE=6919 E 10th St Building C\, Suite 2:geo:-86.073524,39.763905
END:VEVENT
BEGIN:VEVENT
DTSTART;TZID=America/Indiana/Indianapolis:20260629T090000
DTEND;TZID=America/Indiana/Indianapolis:20260629T150000
DTSTAMP:20260425T101536
CREATED:20251130T210641Z
LAST-MODIFIED:20260425T141011Z
UID:11227-1782723600-1782745200@vaccinateindiana.org
SUMMARY:IIC Versailles Clinic Hours
DESCRIPTION:
URL:https://vaccinateindiana.org/event/iic-versailles-clinic-hours-2/2026-06-29/
LOCATION:Indiana Immunization Coalition – Versailles\, 1154 South Ripley Estates Dr.\, Suite 1\, Versailles\, 47042\, United States
GEO:39.0598946;-85.2533476
X-APPLE-STRUCTURED-LOCATION;VALUE=URI;X-ADDRESS=Indiana Immunization Coalition – Versailles 1154 South Ripley Estates Dr. Suite 1 Versailles 47042 United States;X-APPLE-RADIUS=500;X-TITLE=1154 South Ripley Estates Dr.\, Suite 1:geo:-85.2533476,39.0598946
END:VEVENT
BEGIN:VEVENT
DTSTART;TZID=America/Indiana/Indianapolis:20260629T090000
DTEND;TZID=America/Indiana/Indianapolis:20260629T150000
DTSTAMP:20260425T101536
CREATED:20251130T212124Z
LAST-MODIFIED:20260224T183845Z
UID:11066-1782723600-1782745200@vaccinateindiana.org
SUMMARY:Open Office Hours
DESCRIPTION:
URL:https://vaccinateindiana.org/event/open-office-hours-3/2026-06-29/
LOCATION:Indiana Immunization Coalition\, 6919 E 10th St Building C\, Suite 2\, Indianapolis\, IN\, 46219\, United States
GEO:39.763905;-86.073524
X-APPLE-STRUCTURED-LOCATION;VALUE=URI;X-ADDRESS=Indiana Immunization Coalition 6919 E 10th St Building C Suite 2 Indianapolis IN 46219 United States;X-APPLE-RADIUS=500;X-TITLE=6919 E 10th St Building C\, Suite 2:geo:-86.073524,39.763905
END:VEVENT
END:VCALENDAR