BEGIN:VCALENDAR
VERSION:2.0
PRODID:-//Vaccinate Indiana - ECPv6.15.20//NONSGML v1.0//EN
CALSCALE:GREGORIAN
METHOD:PUBLISH
X-WR-CALNAME:Vaccinate Indiana
X-ORIGINAL-URL:https://vaccinateindiana.org
X-WR-CALDESC:Events for Vaccinate Indiana
REFRESH-INTERVAL;VALUE=DURATION:PT1H
X-Robots-Tag:noindex
X-PUBLISHED-TTL:PT1H
BEGIN:VTIMEZONE
TZID:America/Indiana/Indianapolis
BEGIN:DAYLIGHT
TZOFFSETFROM:-0500
TZOFFSETTO:-0400
TZNAME:EDT
DTSTART:20260308T070000
END:DAYLIGHT
BEGIN:STANDARD
TZOFFSETFROM:-0400
TZOFFSETTO:-0500
TZNAME:EST
DTSTART:20261101T060000
END:STANDARD
BEGIN:DAYLIGHT
TZOFFSETFROM:-0500
TZOFFSETTO:-0400
TZNAME:EDT
DTSTART:20270314T070000
END:DAYLIGHT
BEGIN:STANDARD
TZOFFSETFROM:-0400
TZOFFSETTO:-0500
TZNAME:EST
DTSTART:20271107T060000
END:STANDARD
BEGIN:DAYLIGHT
TZOFFSETFROM:-0500
TZOFFSETTO:-0400
TZNAME:EDT
DTSTART:20280312T070000
END:DAYLIGHT
BEGIN:STANDARD
TZOFFSETFROM:-0400
TZOFFSETTO:-0500
TZNAME:EST
DTSTART:20281105T060000
END:STANDARD
END:VTIMEZONE
BEGIN:VEVENT
DTSTART;TZID=America/Indiana/Indianapolis:20270301T090000
DTEND;TZID=America/Indiana/Indianapolis:20270301T180000
DTSTAMP:20260425T194628
CREATED:20260425T140936Z
LAST-MODIFIED:20260425T140936Z
UID:11364-1803891600-1803924000@vaccinateindiana.org
SUMMARY:IIC Versailles Clinic Hours
DESCRIPTION:
URL:https://vaccinateindiana.org/event/iic-versailles-clinic-hours-3/2027-03-01/
LOCATION:Indiana Immunization Coalition – Versailles\, 1154 South Ripley Estates Dr.\, Suite 1\, Versailles\, 47042\, United States
GEO:39.0598946;-85.2533476
X-APPLE-STRUCTURED-LOCATION;VALUE=URI;X-ADDRESS=Indiana Immunization Coalition – Versailles 1154 South Ripley Estates Dr. Suite 1 Versailles 47042 United States;X-APPLE-RADIUS=500;X-TITLE=1154 South Ripley Estates Dr.\, Suite 1:geo:-85.2533476,39.0598946
END:VEVENT
BEGIN:VEVENT
DTSTART;TZID=America/Indiana/Indianapolis:20270308T090000
DTEND;TZID=America/Indiana/Indianapolis:20270308T150000
DTSTAMP:20260425T194628
CREATED:20251130T210641Z
LAST-MODIFIED:20260425T141024Z
UID:11254-1804496400-1804518000@vaccinateindiana.org
SUMMARY:IIC Versailles Clinic Hours
DESCRIPTION:
URL:https://vaccinateindiana.org/event/iic-versailles-clinic-hours-2/2027-03-08/
LOCATION:Indiana Immunization Coalition – Versailles\, 1154 South Ripley Estates Dr.\, Suite 1\, Versailles\, 47042\, United States
GEO:39.0598946;-85.2533476
X-APPLE-STRUCTURED-LOCATION;VALUE=URI;X-ADDRESS=Indiana Immunization Coalition – Versailles 1154 South Ripley Estates Dr. Suite 1 Versailles 47042 United States;X-APPLE-RADIUS=500;X-TITLE=1154 South Ripley Estates Dr.\, Suite 1:geo:-85.2533476,39.0598946
END:VEVENT
BEGIN:VEVENT
DTSTART;TZID=America/Indiana/Indianapolis:20270315T090000
DTEND;TZID=America/Indiana/Indianapolis:20270315T150000
DTSTAMP:20260425T194628
CREATED:20251130T210641Z
LAST-MODIFIED:20260425T141024Z
UID:11255-1805101200-1805122800@vaccinateindiana.org
SUMMARY:IIC Versailles Clinic Hours
DESCRIPTION:
URL:https://vaccinateindiana.org/event/iic-versailles-clinic-hours-2/2027-03-15/
LOCATION:Indiana Immunization Coalition – Versailles\, 1154 South Ripley Estates Dr.\, Suite 1\, Versailles\, 47042\, United States
GEO:39.0598946;-85.2533476
X-APPLE-STRUCTURED-LOCATION;VALUE=URI;X-ADDRESS=Indiana Immunization Coalition – Versailles 1154 South Ripley Estates Dr. Suite 1 Versailles 47042 United States;X-APPLE-RADIUS=500;X-TITLE=1154 South Ripley Estates Dr.\, Suite 1:geo:-85.2533476,39.0598946
END:VEVENT
BEGIN:VEVENT
DTSTART;TZID=America/Indiana/Indianapolis:20270322T090000
DTEND;TZID=America/Indiana/Indianapolis:20270322T150000
DTSTAMP:20260425T194628
CREATED:20251130T210641Z
LAST-MODIFIED:20260425T141025Z
UID:11256-1805706000-1805727600@vaccinateindiana.org
SUMMARY:IIC Versailles Clinic Hours
DESCRIPTION:
URL:https://vaccinateindiana.org/event/iic-versailles-clinic-hours-2/2027-03-22/
LOCATION:Indiana Immunization Coalition – Versailles\, 1154 South Ripley Estates Dr.\, Suite 1\, Versailles\, 47042\, United States
GEO:39.0598946;-85.2533476
X-APPLE-STRUCTURED-LOCATION;VALUE=URI;X-ADDRESS=Indiana Immunization Coalition – Versailles 1154 South Ripley Estates Dr. Suite 1 Versailles 47042 United States;X-APPLE-RADIUS=500;X-TITLE=1154 South Ripley Estates Dr.\, Suite 1:geo:-85.2533476,39.0598946
END:VEVENT
BEGIN:VEVENT
DTSTART;TZID=America/Indiana/Indianapolis:20270329T090000
DTEND;TZID=America/Indiana/Indianapolis:20270329T150000
DTSTAMP:20260425T194628
CREATED:20251130T210641Z
LAST-MODIFIED:20260425T141026Z
UID:11257-1806310800-1806332400@vaccinateindiana.org
SUMMARY:IIC Versailles Clinic Hours
DESCRIPTION:
URL:https://vaccinateindiana.org/event/iic-versailles-clinic-hours-2/2027-03-29/
LOCATION:Indiana Immunization Coalition – Versailles\, 1154 South Ripley Estates Dr.\, Suite 1\, Versailles\, 47042\, United States
GEO:39.0598946;-85.2533476
X-APPLE-STRUCTURED-LOCATION;VALUE=URI;X-ADDRESS=Indiana Immunization Coalition – Versailles 1154 South Ripley Estates Dr. Suite 1 Versailles 47042 United States;X-APPLE-RADIUS=500;X-TITLE=1154 South Ripley Estates Dr.\, Suite 1:geo:-85.2533476,39.0598946
END:VEVENT
BEGIN:VEVENT
DTSTART;TZID=America/Indiana/Indianapolis:20270405T090000
DTEND;TZID=America/Indiana/Indianapolis:20270405T180000
DTSTAMP:20260425T194628
CREATED:20260425T140936Z
LAST-MODIFIED:20260425T140936Z
UID:11365-1806915600-1806948000@vaccinateindiana.org
SUMMARY:IIC Versailles Clinic Hours
DESCRIPTION:
URL:https://vaccinateindiana.org/event/iic-versailles-clinic-hours-3/2027-04-05/
LOCATION:Indiana Immunization Coalition – Versailles\, 1154 South Ripley Estates Dr.\, Suite 1\, Versailles\, 47042\, United States
GEO:39.0598946;-85.2533476
X-APPLE-STRUCTURED-LOCATION;VALUE=URI;X-ADDRESS=Indiana Immunization Coalition – Versailles 1154 South Ripley Estates Dr. Suite 1 Versailles 47042 United States;X-APPLE-RADIUS=500;X-TITLE=1154 South Ripley Estates Dr.\, Suite 1:geo:-85.2533476,39.0598946
END:VEVENT
BEGIN:VEVENT
DTSTART;TZID=America/Indiana/Indianapolis:20270412T090000
DTEND;TZID=America/Indiana/Indianapolis:20270412T150000
DTSTAMP:20260425T194628
CREATED:20251130T210641Z
LAST-MODIFIED:20260425T141026Z
UID:11258-1807520400-1807542000@vaccinateindiana.org
SUMMARY:IIC Versailles Clinic Hours
DESCRIPTION:
URL:https://vaccinateindiana.org/event/iic-versailles-clinic-hours-2/2027-04-12/
LOCATION:Indiana Immunization Coalition – Versailles\, 1154 South Ripley Estates Dr.\, Suite 1\, Versailles\, 47042\, United States
GEO:39.0598946;-85.2533476
X-APPLE-STRUCTURED-LOCATION;VALUE=URI;X-ADDRESS=Indiana Immunization Coalition – Versailles 1154 South Ripley Estates Dr. Suite 1 Versailles 47042 United States;X-APPLE-RADIUS=500;X-TITLE=1154 South Ripley Estates Dr.\, Suite 1:geo:-85.2533476,39.0598946
END:VEVENT
BEGIN:VEVENT
DTSTART;TZID=America/Indiana/Indianapolis:20270419T090000
DTEND;TZID=America/Indiana/Indianapolis:20270419T150000
DTSTAMP:20260425T194628
CREATED:20251130T210641Z
LAST-MODIFIED:20260425T141026Z
UID:11259-1808125200-1808146800@vaccinateindiana.org
SUMMARY:IIC Versailles Clinic Hours
DESCRIPTION:
URL:https://vaccinateindiana.org/event/iic-versailles-clinic-hours-2/2027-04-19/
LOCATION:Indiana Immunization Coalition – Versailles\, 1154 South Ripley Estates Dr.\, Suite 1\, Versailles\, 47042\, United States
GEO:39.0598946;-85.2533476
X-APPLE-STRUCTURED-LOCATION;VALUE=URI;X-ADDRESS=Indiana Immunization Coalition – Versailles 1154 South Ripley Estates Dr. Suite 1 Versailles 47042 United States;X-APPLE-RADIUS=500;X-TITLE=1154 South Ripley Estates Dr.\, Suite 1:geo:-85.2533476,39.0598946
END:VEVENT
BEGIN:VEVENT
DTSTART;TZID=America/Indiana/Indianapolis:20270426T090000
DTEND;TZID=America/Indiana/Indianapolis:20270426T150000
DTSTAMP:20260425T194628
CREATED:20251130T210641Z
LAST-MODIFIED:20260425T141027Z
UID:11260-1808730000-1808751600@vaccinateindiana.org
SUMMARY:IIC Versailles Clinic Hours
DESCRIPTION:
URL:https://vaccinateindiana.org/event/iic-versailles-clinic-hours-2/2027-04-26/
LOCATION:Indiana Immunization Coalition – Versailles\, 1154 South Ripley Estates Dr.\, Suite 1\, Versailles\, 47042\, United States
GEO:39.0598946;-85.2533476
X-APPLE-STRUCTURED-LOCATION;VALUE=URI;X-ADDRESS=Indiana Immunization Coalition – Versailles 1154 South Ripley Estates Dr. Suite 1 Versailles 47042 United States;X-APPLE-RADIUS=500;X-TITLE=1154 South Ripley Estates Dr.\, Suite 1:geo:-85.2533476,39.0598946
END:VEVENT
BEGIN:VEVENT
DTSTART;TZID=America/Indiana/Indianapolis:20270503T090000
DTEND;TZID=America/Indiana/Indianapolis:20270503T180000
DTSTAMP:20260425T194628
CREATED:20260425T140936Z
LAST-MODIFIED:20260425T140936Z
UID:11366-1809334800-1809367200@vaccinateindiana.org
SUMMARY:IIC Versailles Clinic Hours
DESCRIPTION:
URL:https://vaccinateindiana.org/event/iic-versailles-clinic-hours-3/2027-05-03/
LOCATION:Indiana Immunization Coalition – Versailles\, 1154 South Ripley Estates Dr.\, Suite 1\, Versailles\, 47042\, United States
GEO:39.0598946;-85.2533476
X-APPLE-STRUCTURED-LOCATION;VALUE=URI;X-ADDRESS=Indiana Immunization Coalition – Versailles 1154 South Ripley Estates Dr. Suite 1 Versailles 47042 United States;X-APPLE-RADIUS=500;X-TITLE=1154 South Ripley Estates Dr.\, Suite 1:geo:-85.2533476,39.0598946
END:VEVENT
BEGIN:VEVENT
DTSTART;TZID=America/Indiana/Indianapolis:20270510T090000
DTEND;TZID=America/Indiana/Indianapolis:20270510T150000
DTSTAMP:20260425T194628
CREATED:20251130T210641Z
LAST-MODIFIED:20260425T141027Z
UID:11261-1809939600-1809961200@vaccinateindiana.org
SUMMARY:IIC Versailles Clinic Hours
DESCRIPTION:
URL:https://vaccinateindiana.org/event/iic-versailles-clinic-hours-2/2027-05-10/
LOCATION:Indiana Immunization Coalition – Versailles\, 1154 South Ripley Estates Dr.\, Suite 1\, Versailles\, 47042\, United States
GEO:39.0598946;-85.2533476
X-APPLE-STRUCTURED-LOCATION;VALUE=URI;X-ADDRESS=Indiana Immunization Coalition – Versailles 1154 South Ripley Estates Dr. Suite 1 Versailles 47042 United States;X-APPLE-RADIUS=500;X-TITLE=1154 South Ripley Estates Dr.\, Suite 1:geo:-85.2533476,39.0598946
END:VEVENT
BEGIN:VEVENT
DTSTART;TZID=America/Indiana/Indianapolis:20270517T090000
DTEND;TZID=America/Indiana/Indianapolis:20270517T150000
DTSTAMP:20260425T194628
CREATED:20251130T210641Z
LAST-MODIFIED:20260425T141027Z
UID:11262-1810544400-1810566000@vaccinateindiana.org
SUMMARY:IIC Versailles Clinic Hours
DESCRIPTION:
URL:https://vaccinateindiana.org/event/iic-versailles-clinic-hours-2/2027-05-17/
LOCATION:Indiana Immunization Coalition – Versailles\, 1154 South Ripley Estates Dr.\, Suite 1\, Versailles\, 47042\, United States
GEO:39.0598946;-85.2533476
X-APPLE-STRUCTURED-LOCATION;VALUE=URI;X-ADDRESS=Indiana Immunization Coalition – Versailles 1154 South Ripley Estates Dr. Suite 1 Versailles 47042 United States;X-APPLE-RADIUS=500;X-TITLE=1154 South Ripley Estates Dr.\, Suite 1:geo:-85.2533476,39.0598946
END:VEVENT
BEGIN:VEVENT
DTSTART;TZID=America/Indiana/Indianapolis:20270524T090000
DTEND;TZID=America/Indiana/Indianapolis:20270524T150000
DTSTAMP:20260425T194628
CREATED:20251130T210641Z
LAST-MODIFIED:20260425T141029Z
UID:11263-1811149200-1811170800@vaccinateindiana.org
SUMMARY:IIC Versailles Clinic Hours
DESCRIPTION:
URL:https://vaccinateindiana.org/event/iic-versailles-clinic-hours-2/2027-05-24/
LOCATION:Indiana Immunization Coalition – Versailles\, 1154 South Ripley Estates Dr.\, Suite 1\, Versailles\, 47042\, United States
GEO:39.0598946;-85.2533476
X-APPLE-STRUCTURED-LOCATION;VALUE=URI;X-ADDRESS=Indiana Immunization Coalition – Versailles 1154 South Ripley Estates Dr. Suite 1 Versailles 47042 United States;X-APPLE-RADIUS=500;X-TITLE=1154 South Ripley Estates Dr.\, Suite 1:geo:-85.2533476,39.0598946
END:VEVENT
BEGIN:VEVENT
DTSTART;TZID=America/Indiana/Indianapolis:20270531T090000
DTEND;TZID=America/Indiana/Indianapolis:20270531T150000
DTSTAMP:20260425T194628
CREATED:20251130T210641Z
LAST-MODIFIED:20260425T141029Z
UID:11264-1811754000-1811775600@vaccinateindiana.org
SUMMARY:IIC Versailles Clinic Hours
DESCRIPTION:
URL:https://vaccinateindiana.org/event/iic-versailles-clinic-hours-2/2027-05-31/
LOCATION:Indiana Immunization Coalition – Versailles\, 1154 South Ripley Estates Dr.\, Suite 1\, Versailles\, 47042\, United States
GEO:39.0598946;-85.2533476
X-APPLE-STRUCTURED-LOCATION;VALUE=URI;X-ADDRESS=Indiana Immunization Coalition – Versailles 1154 South Ripley Estates Dr. Suite 1 Versailles 47042 United States;X-APPLE-RADIUS=500;X-TITLE=1154 South Ripley Estates Dr.\, Suite 1:geo:-85.2533476,39.0598946
END:VEVENT
BEGIN:VEVENT
DTSTART;TZID=America/Indiana/Indianapolis:20270607T090000
DTEND;TZID=America/Indiana/Indianapolis:20270607T180000
DTSTAMP:20260425T194628
CREATED:20260425T140936Z
LAST-MODIFIED:20260425T140936Z
UID:11367-1812358800-1812391200@vaccinateindiana.org
SUMMARY:IIC Versailles Clinic Hours
DESCRIPTION:
URL:https://vaccinateindiana.org/event/iic-versailles-clinic-hours-3/2027-06-07/
LOCATION:Indiana Immunization Coalition – Versailles\, 1154 South Ripley Estates Dr.\, Suite 1\, Versailles\, 47042\, United States
GEO:39.0598946;-85.2533476
X-APPLE-STRUCTURED-LOCATION;VALUE=URI;X-ADDRESS=Indiana Immunization Coalition – Versailles 1154 South Ripley Estates Dr. Suite 1 Versailles 47042 United States;X-APPLE-RADIUS=500;X-TITLE=1154 South Ripley Estates Dr.\, Suite 1:geo:-85.2533476,39.0598946
END:VEVENT
BEGIN:VEVENT
DTSTART;TZID=America/Indiana/Indianapolis:20270614T090000
DTEND;TZID=America/Indiana/Indianapolis:20270614T150000
DTSTAMP:20260425T194628
CREATED:20251130T210641Z
LAST-MODIFIED:20260425T141029Z
UID:11265-1812963600-1812985200@vaccinateindiana.org
SUMMARY:IIC Versailles Clinic Hours
DESCRIPTION:
URL:https://vaccinateindiana.org/event/iic-versailles-clinic-hours-2/2027-06-14/
LOCATION:Indiana Immunization Coalition – Versailles\, 1154 South Ripley Estates Dr.\, Suite 1\, Versailles\, 47042\, United States
GEO:39.0598946;-85.2533476
X-APPLE-STRUCTURED-LOCATION;VALUE=URI;X-ADDRESS=Indiana Immunization Coalition – Versailles 1154 South Ripley Estates Dr. Suite 1 Versailles 47042 United States;X-APPLE-RADIUS=500;X-TITLE=1154 South Ripley Estates Dr.\, Suite 1:geo:-85.2533476,39.0598946
END:VEVENT
BEGIN:VEVENT
DTSTART;TZID=America/Indiana/Indianapolis:20270621T090000
DTEND;TZID=America/Indiana/Indianapolis:20270621T150000
DTSTAMP:20260425T194628
CREATED:20251130T210641Z
LAST-MODIFIED:20260425T141029Z
UID:11266-1813568400-1813590000@vaccinateindiana.org
SUMMARY:IIC Versailles Clinic Hours
DESCRIPTION:
URL:https://vaccinateindiana.org/event/iic-versailles-clinic-hours-2/2027-06-21/
LOCATION:Indiana Immunization Coalition – Versailles\, 1154 South Ripley Estates Dr.\, Suite 1\, Versailles\, 47042\, United States
GEO:39.0598946;-85.2533476
X-APPLE-STRUCTURED-LOCATION;VALUE=URI;X-ADDRESS=Indiana Immunization Coalition – Versailles 1154 South Ripley Estates Dr. Suite 1 Versailles 47042 United States;X-APPLE-RADIUS=500;X-TITLE=1154 South Ripley Estates Dr.\, Suite 1:geo:-85.2533476,39.0598946
END:VEVENT
BEGIN:VEVENT
DTSTART;TZID=America/Indiana/Indianapolis:20270628T090000
DTEND;TZID=America/Indiana/Indianapolis:20270628T150000
DTSTAMP:20260425T194628
CREATED:20251130T210641Z
LAST-MODIFIED:20260425T141030Z
UID:11267-1814173200-1814194800@vaccinateindiana.org
SUMMARY:IIC Versailles Clinic Hours
DESCRIPTION:
URL:https://vaccinateindiana.org/event/iic-versailles-clinic-hours-2/2027-06-28/
LOCATION:Indiana Immunization Coalition – Versailles\, 1154 South Ripley Estates Dr.\, Suite 1\, Versailles\, 47042\, United States
GEO:39.0598946;-85.2533476
X-APPLE-STRUCTURED-LOCATION;VALUE=URI;X-ADDRESS=Indiana Immunization Coalition – Versailles 1154 South Ripley Estates Dr. Suite 1 Versailles 47042 United States;X-APPLE-RADIUS=500;X-TITLE=1154 South Ripley Estates Dr.\, Suite 1:geo:-85.2533476,39.0598946
END:VEVENT
BEGIN:VEVENT
DTSTART;TZID=America/Indiana/Indianapolis:20270712T090000
DTEND;TZID=America/Indiana/Indianapolis:20270712T150000
DTSTAMP:20260425T194628
CREATED:20251130T210641Z
LAST-MODIFIED:20260425T141031Z
UID:11268-1815382800-1815404400@vaccinateindiana.org
SUMMARY:IIC Versailles Clinic Hours
DESCRIPTION:
URL:https://vaccinateindiana.org/event/iic-versailles-clinic-hours-2/2027-07-12/
LOCATION:Indiana Immunization Coalition – Versailles\, 1154 South Ripley Estates Dr.\, Suite 1\, Versailles\, 47042\, United States
GEO:39.0598946;-85.2533476
X-APPLE-STRUCTURED-LOCATION;VALUE=URI;X-ADDRESS=Indiana Immunization Coalition – Versailles 1154 South Ripley Estates Dr. Suite 1 Versailles 47042 United States;X-APPLE-RADIUS=500;X-TITLE=1154 South Ripley Estates Dr.\, Suite 1:geo:-85.2533476,39.0598946
END:VEVENT
BEGIN:VEVENT
DTSTART;TZID=America/Indiana/Indianapolis:20270719T090000
DTEND;TZID=America/Indiana/Indianapolis:20270719T150000
DTSTAMP:20260425T194628
CREATED:20251130T210641Z
LAST-MODIFIED:20260425T141031Z
UID:11269-1815987600-1816009200@vaccinateindiana.org
SUMMARY:IIC Versailles Clinic Hours
DESCRIPTION:
URL:https://vaccinateindiana.org/event/iic-versailles-clinic-hours-2/2027-07-19/
LOCATION:Indiana Immunization Coalition – Versailles\, 1154 South Ripley Estates Dr.\, Suite 1\, Versailles\, 47042\, United States
GEO:39.0598946;-85.2533476
X-APPLE-STRUCTURED-LOCATION;VALUE=URI;X-ADDRESS=Indiana Immunization Coalition – Versailles 1154 South Ripley Estates Dr. Suite 1 Versailles 47042 United States;X-APPLE-RADIUS=500;X-TITLE=1154 South Ripley Estates Dr.\, Suite 1:geo:-85.2533476,39.0598946
END:VEVENT
BEGIN:VEVENT
DTSTART;TZID=America/Indiana/Indianapolis:20270726T090000
DTEND;TZID=America/Indiana/Indianapolis:20270726T150000
DTSTAMP:20260425T194628
CREATED:20251130T210641Z
LAST-MODIFIED:20260425T141031Z
UID:11270-1816592400-1816614000@vaccinateindiana.org
SUMMARY:IIC Versailles Clinic Hours
DESCRIPTION:
URL:https://vaccinateindiana.org/event/iic-versailles-clinic-hours-2/2027-07-26/
LOCATION:Indiana Immunization Coalition – Versailles\, 1154 South Ripley Estates Dr.\, Suite 1\, Versailles\, 47042\, United States
GEO:39.0598946;-85.2533476
X-APPLE-STRUCTURED-LOCATION;VALUE=URI;X-ADDRESS=Indiana Immunization Coalition – Versailles 1154 South Ripley Estates Dr. Suite 1 Versailles 47042 United States;X-APPLE-RADIUS=500;X-TITLE=1154 South Ripley Estates Dr.\, Suite 1:geo:-85.2533476,39.0598946
END:VEVENT
BEGIN:VEVENT
DTSTART;TZID=America/Indiana/Indianapolis:20270802T090000
DTEND;TZID=America/Indiana/Indianapolis:20270802T180000
DTSTAMP:20260425T194628
CREATED:20260425T140936Z
LAST-MODIFIED:20260425T140936Z
UID:11368-1817197200-1817229600@vaccinateindiana.org
SUMMARY:IIC Versailles Clinic Hours
DESCRIPTION:
URL:https://vaccinateindiana.org/event/iic-versailles-clinic-hours-3/2027-08-02/
LOCATION:Indiana Immunization Coalition – Versailles\, 1154 South Ripley Estates Dr.\, Suite 1\, Versailles\, 47042\, United States
GEO:39.0598946;-85.2533476
X-APPLE-STRUCTURED-LOCATION;VALUE=URI;X-ADDRESS=Indiana Immunization Coalition – Versailles 1154 South Ripley Estates Dr. Suite 1 Versailles 47042 United States;X-APPLE-RADIUS=500;X-TITLE=1154 South Ripley Estates Dr.\, Suite 1:geo:-85.2533476,39.0598946
END:VEVENT
BEGIN:VEVENT
DTSTART;TZID=America/Indiana/Indianapolis:20270809T090000
DTEND;TZID=America/Indiana/Indianapolis:20270809T150000
DTSTAMP:20260425T194628
CREATED:20251130T210641Z
LAST-MODIFIED:20260425T141031Z
UID:11271-1817802000-1817823600@vaccinateindiana.org
SUMMARY:IIC Versailles Clinic Hours
DESCRIPTION:
URL:https://vaccinateindiana.org/event/iic-versailles-clinic-hours-2/2027-08-09/
LOCATION:Indiana Immunization Coalition – Versailles\, 1154 South Ripley Estates Dr.\, Suite 1\, Versailles\, 47042\, United States
GEO:39.0598946;-85.2533476
X-APPLE-STRUCTURED-LOCATION;VALUE=URI;X-ADDRESS=Indiana Immunization Coalition – Versailles 1154 South Ripley Estates Dr. Suite 1 Versailles 47042 United States;X-APPLE-RADIUS=500;X-TITLE=1154 South Ripley Estates Dr.\, Suite 1:geo:-85.2533476,39.0598946
END:VEVENT
BEGIN:VEVENT
DTSTART;TZID=America/Indiana/Indianapolis:20270816T090000
DTEND;TZID=America/Indiana/Indianapolis:20270816T150000
DTSTAMP:20260425T194628
CREATED:20251130T210641Z
LAST-MODIFIED:20260425T141032Z
UID:11272-1818406800-1818428400@vaccinateindiana.org
SUMMARY:IIC Versailles Clinic Hours
DESCRIPTION:
URL:https://vaccinateindiana.org/event/iic-versailles-clinic-hours-2/2027-08-16/
LOCATION:Indiana Immunization Coalition – Versailles\, 1154 South Ripley Estates Dr.\, Suite 1\, Versailles\, 47042\, United States
GEO:39.0598946;-85.2533476
X-APPLE-STRUCTURED-LOCATION;VALUE=URI;X-ADDRESS=Indiana Immunization Coalition – Versailles 1154 South Ripley Estates Dr. Suite 1 Versailles 47042 United States;X-APPLE-RADIUS=500;X-TITLE=1154 South Ripley Estates Dr.\, Suite 1:geo:-85.2533476,39.0598946
END:VEVENT
BEGIN:VEVENT
DTSTART;TZID=America/Indiana/Indianapolis:20270823T090000
DTEND;TZID=America/Indiana/Indianapolis:20270823T150000
DTSTAMP:20260425T194628
CREATED:20251130T210641Z
LAST-MODIFIED:20260425T141034Z
UID:11273-1819011600-1819033200@vaccinateindiana.org
SUMMARY:IIC Versailles Clinic Hours
DESCRIPTION:
URL:https://vaccinateindiana.org/event/iic-versailles-clinic-hours-2/2027-08-23/
LOCATION:Indiana Immunization Coalition – Versailles\, 1154 South Ripley Estates Dr.\, Suite 1\, Versailles\, 47042\, United States
GEO:39.0598946;-85.2533476
X-APPLE-STRUCTURED-LOCATION;VALUE=URI;X-ADDRESS=Indiana Immunization Coalition – Versailles 1154 South Ripley Estates Dr. Suite 1 Versailles 47042 United States;X-APPLE-RADIUS=500;X-TITLE=1154 South Ripley Estates Dr.\, Suite 1:geo:-85.2533476,39.0598946
END:VEVENT
BEGIN:VEVENT
DTSTART;TZID=America/Indiana/Indianapolis:20270830T090000
DTEND;TZID=America/Indiana/Indianapolis:20270830T150000
DTSTAMP:20260425T194628
CREATED:20251130T210641Z
LAST-MODIFIED:20260425T141034Z
UID:11274-1819616400-1819638000@vaccinateindiana.org
SUMMARY:IIC Versailles Clinic Hours
DESCRIPTION:
URL:https://vaccinateindiana.org/event/iic-versailles-clinic-hours-2/2027-08-30/
LOCATION:Indiana Immunization Coalition – Versailles\, 1154 South Ripley Estates Dr.\, Suite 1\, Versailles\, 47042\, United States
GEO:39.0598946;-85.2533476
X-APPLE-STRUCTURED-LOCATION;VALUE=URI;X-ADDRESS=Indiana Immunization Coalition – Versailles 1154 South Ripley Estates Dr. Suite 1 Versailles 47042 United States;X-APPLE-RADIUS=500;X-TITLE=1154 South Ripley Estates Dr.\, Suite 1:geo:-85.2533476,39.0598946
END:VEVENT
BEGIN:VEVENT
DTSTART;TZID=America/Indiana/Indianapolis:20270906T090000
DTEND;TZID=America/Indiana/Indianapolis:20270906T180000
DTSTAMP:20260425T194628
CREATED:20260425T140936Z
LAST-MODIFIED:20260425T140936Z
UID:11369-1820221200-1820253600@vaccinateindiana.org
SUMMARY:IIC Versailles Clinic Hours
DESCRIPTION:
URL:https://vaccinateindiana.org/event/iic-versailles-clinic-hours-3/2027-09-06/
LOCATION:Indiana Immunization Coalition – Versailles\, 1154 South Ripley Estates Dr.\, Suite 1\, Versailles\, 47042\, United States
GEO:39.0598946;-85.2533476
X-APPLE-STRUCTURED-LOCATION;VALUE=URI;X-ADDRESS=Indiana Immunization Coalition – Versailles 1154 South Ripley Estates Dr. Suite 1 Versailles 47042 United States;X-APPLE-RADIUS=500;X-TITLE=1154 South Ripley Estates Dr.\, Suite 1:geo:-85.2533476,39.0598946
END:VEVENT
BEGIN:VEVENT
DTSTART;TZID=America/Indiana/Indianapolis:20270913T090000
DTEND;TZID=America/Indiana/Indianapolis:20270913T150000
DTSTAMP:20260425T194628
CREATED:20251130T210641Z
LAST-MODIFIED:20260425T141034Z
UID:11275-1820826000-1820847600@vaccinateindiana.org
SUMMARY:IIC Versailles Clinic Hours
DESCRIPTION:
URL:https://vaccinateindiana.org/event/iic-versailles-clinic-hours-2/2027-09-13/
LOCATION:Indiana Immunization Coalition – Versailles\, 1154 South Ripley Estates Dr.\, Suite 1\, Versailles\, 47042\, United States
GEO:39.0598946;-85.2533476
X-APPLE-STRUCTURED-LOCATION;VALUE=URI;X-ADDRESS=Indiana Immunization Coalition – Versailles 1154 South Ripley Estates Dr. Suite 1 Versailles 47042 United States;X-APPLE-RADIUS=500;X-TITLE=1154 South Ripley Estates Dr.\, Suite 1:geo:-85.2533476,39.0598946
END:VEVENT
BEGIN:VEVENT
DTSTART;TZID=America/Indiana/Indianapolis:20270920T090000
DTEND;TZID=America/Indiana/Indianapolis:20270920T150000
DTSTAMP:20260425T194628
CREATED:20251130T210641Z
LAST-MODIFIED:20260425T141034Z
UID:11276-1821430800-1821452400@vaccinateindiana.org
SUMMARY:IIC Versailles Clinic Hours
DESCRIPTION:
URL:https://vaccinateindiana.org/event/iic-versailles-clinic-hours-2/2027-09-20/
LOCATION:Indiana Immunization Coalition – Versailles\, 1154 South Ripley Estates Dr.\, Suite 1\, Versailles\, 47042\, United States
GEO:39.0598946;-85.2533476
X-APPLE-STRUCTURED-LOCATION;VALUE=URI;X-ADDRESS=Indiana Immunization Coalition – Versailles 1154 South Ripley Estates Dr. Suite 1 Versailles 47042 United States;X-APPLE-RADIUS=500;X-TITLE=1154 South Ripley Estates Dr.\, Suite 1:geo:-85.2533476,39.0598946
END:VEVENT
BEGIN:VEVENT
DTSTART;TZID=America/Indiana/Indianapolis:20270927T090000
DTEND;TZID=America/Indiana/Indianapolis:20270927T150000
DTSTAMP:20260425T194628
CREATED:20251130T210641Z
LAST-MODIFIED:20260425T141035Z
UID:11277-1822035600-1822057200@vaccinateindiana.org
SUMMARY:IIC Versailles Clinic Hours
DESCRIPTION:
URL:https://vaccinateindiana.org/event/iic-versailles-clinic-hours-2/2027-09-27/
LOCATION:Indiana Immunization Coalition – Versailles\, 1154 South Ripley Estates Dr.\, Suite 1\, Versailles\, 47042\, United States
GEO:39.0598946;-85.2533476
X-APPLE-STRUCTURED-LOCATION;VALUE=URI;X-ADDRESS=Indiana Immunization Coalition – Versailles 1154 South Ripley Estates Dr. Suite 1 Versailles 47042 United States;X-APPLE-RADIUS=500;X-TITLE=1154 South Ripley Estates Dr.\, Suite 1:geo:-85.2533476,39.0598946
END:VEVENT
END:VCALENDAR