BEGIN:VCALENDAR
VERSION:2.0
PRODID:-//Vaccinate Indiana - ECPv6.15.20//NONSGML v1.0//EN
CALSCALE:GREGORIAN
METHOD:PUBLISH
X-ORIGINAL-URL:https://vaccinateindiana.org
X-WR-CALDESC:Events for Vaccinate Indiana
REFRESH-INTERVAL;VALUE=DURATION:PT1H
X-Robots-Tag:noindex
X-PUBLISHED-TTL:PT1H
BEGIN:VTIMEZONE
TZID:America/Indiana/Indianapolis
BEGIN:DAYLIGHT
TZOFFSETFROM:-0500
TZOFFSETTO:-0400
TZNAME:EDT
DTSTART:20260308T070000
END:DAYLIGHT
BEGIN:STANDARD
TZOFFSETFROM:-0400
TZOFFSETTO:-0500
TZNAME:EST
DTSTART:20261101T060000
END:STANDARD
BEGIN:DAYLIGHT
TZOFFSETFROM:-0500
TZOFFSETTO:-0400
TZNAME:EDT
DTSTART:20270314T070000
END:DAYLIGHT
BEGIN:STANDARD
TZOFFSETFROM:-0400
TZOFFSETTO:-0500
TZNAME:EST
DTSTART:20271107T060000
END:STANDARD
BEGIN:DAYLIGHT
TZOFFSETFROM:-0500
TZOFFSETTO:-0400
TZNAME:EDT
DTSTART:20280312T070000
END:DAYLIGHT
BEGIN:STANDARD
TZOFFSETFROM:-0400
TZOFFSETTO:-0500
TZNAME:EST
DTSTART:20281105T060000
END:STANDARD
BEGIN:DAYLIGHT
TZOFFSETFROM:-0500
TZOFFSETTO:-0400
TZNAME:EDT
DTSTART:20290311T070000
END:DAYLIGHT
BEGIN:STANDARD
TZOFFSETFROM:-0400
TZOFFSETTO:-0500
TZNAME:EST
DTSTART:20291104T060000
END:STANDARD
END:VTIMEZONE
BEGIN:VEVENT
DTSTART;TZID=America/Indiana/Indianapolis:20270621T090000
DTEND;TZID=America/Indiana/Indianapolis:20270621T150000
DTSTAMP:20260426T000751
CREATED:20251130T210641Z
LAST-MODIFIED:20260425T141029Z
UID:11266-1813568400-1813590000@vaccinateindiana.org
SUMMARY:IIC Versailles Clinic Hours
DESCRIPTION:
URL:https://vaccinateindiana.org/event/iic-versailles-clinic-hours-2/2027-06-21/
LOCATION:Indiana Immunization Coalition – Versailles\, 1154 South Ripley Estates Dr.\, Suite 1\, Versailles\, 47042\, United States
GEO:39.0598946;-85.2533476
X-APPLE-STRUCTURED-LOCATION;VALUE=URI;X-ADDRESS=Indiana Immunization Coalition – Versailles 1154 South Ripley Estates Dr. Suite 1 Versailles 47042 United States;X-APPLE-RADIUS=500;X-TITLE=1154 South Ripley Estates Dr.\, Suite 1:geo:-85.2533476,39.0598946
END:VEVENT
BEGIN:VEVENT
DTSTART;TZID=America/Indiana/Indianapolis:20270628T090000
DTEND;TZID=America/Indiana/Indianapolis:20270628T150000
DTSTAMP:20260426T000751
CREATED:20251130T210641Z
LAST-MODIFIED:20260425T141030Z
UID:11267-1814173200-1814194800@vaccinateindiana.org
SUMMARY:IIC Versailles Clinic Hours
DESCRIPTION:
URL:https://vaccinateindiana.org/event/iic-versailles-clinic-hours-2/2027-06-28/
LOCATION:Indiana Immunization Coalition – Versailles\, 1154 South Ripley Estates Dr.\, Suite 1\, Versailles\, 47042\, United States
GEO:39.0598946;-85.2533476
X-APPLE-STRUCTURED-LOCATION;VALUE=URI;X-ADDRESS=Indiana Immunization Coalition – Versailles 1154 South Ripley Estates Dr. Suite 1 Versailles 47042 United States;X-APPLE-RADIUS=500;X-TITLE=1154 South Ripley Estates Dr.\, Suite 1:geo:-85.2533476,39.0598946
END:VEVENT
BEGIN:VEVENT
DTSTART;TZID=America/Indiana/Indianapolis:20270712T090000
DTEND;TZID=America/Indiana/Indianapolis:20270712T150000
DTSTAMP:20260426T000751
CREATED:20251130T210641Z
LAST-MODIFIED:20260425T141031Z
UID:11268-1815382800-1815404400@vaccinateindiana.org
SUMMARY:IIC Versailles Clinic Hours
DESCRIPTION:
URL:https://vaccinateindiana.org/event/iic-versailles-clinic-hours-2/2027-07-12/
LOCATION:Indiana Immunization Coalition – Versailles\, 1154 South Ripley Estates Dr.\, Suite 1\, Versailles\, 47042\, United States
GEO:39.0598946;-85.2533476
X-APPLE-STRUCTURED-LOCATION;VALUE=URI;X-ADDRESS=Indiana Immunization Coalition – Versailles 1154 South Ripley Estates Dr. Suite 1 Versailles 47042 United States;X-APPLE-RADIUS=500;X-TITLE=1154 South Ripley Estates Dr.\, Suite 1:geo:-85.2533476,39.0598946
END:VEVENT
BEGIN:VEVENT
DTSTART;TZID=America/Indiana/Indianapolis:20270719T090000
DTEND;TZID=America/Indiana/Indianapolis:20270719T150000
DTSTAMP:20260426T000751
CREATED:20251130T210641Z
LAST-MODIFIED:20260425T141031Z
UID:11269-1815987600-1816009200@vaccinateindiana.org
SUMMARY:IIC Versailles Clinic Hours
DESCRIPTION:
URL:https://vaccinateindiana.org/event/iic-versailles-clinic-hours-2/2027-07-19/
LOCATION:Indiana Immunization Coalition – Versailles\, 1154 South Ripley Estates Dr.\, Suite 1\, Versailles\, 47042\, United States
GEO:39.0598946;-85.2533476
X-APPLE-STRUCTURED-LOCATION;VALUE=URI;X-ADDRESS=Indiana Immunization Coalition – Versailles 1154 South Ripley Estates Dr. Suite 1 Versailles 47042 United States;X-APPLE-RADIUS=500;X-TITLE=1154 South Ripley Estates Dr.\, Suite 1:geo:-85.2533476,39.0598946
END:VEVENT
BEGIN:VEVENT
DTSTART;TZID=America/Indiana/Indianapolis:20270726T090000
DTEND;TZID=America/Indiana/Indianapolis:20270726T150000
DTSTAMP:20260426T000751
CREATED:20251130T210641Z
LAST-MODIFIED:20260425T141031Z
UID:11270-1816592400-1816614000@vaccinateindiana.org
SUMMARY:IIC Versailles Clinic Hours
DESCRIPTION:
URL:https://vaccinateindiana.org/event/iic-versailles-clinic-hours-2/2027-07-26/
LOCATION:Indiana Immunization Coalition – Versailles\, 1154 South Ripley Estates Dr.\, Suite 1\, Versailles\, 47042\, United States
GEO:39.0598946;-85.2533476
X-APPLE-STRUCTURED-LOCATION;VALUE=URI;X-ADDRESS=Indiana Immunization Coalition – Versailles 1154 South Ripley Estates Dr. Suite 1 Versailles 47042 United States;X-APPLE-RADIUS=500;X-TITLE=1154 South Ripley Estates Dr.\, Suite 1:geo:-85.2533476,39.0598946
END:VEVENT
BEGIN:VEVENT
DTSTART;TZID=America/Indiana/Indianapolis:20270802T090000
DTEND;TZID=America/Indiana/Indianapolis:20270802T180000
DTSTAMP:20260426T000751
CREATED:20260425T140936Z
LAST-MODIFIED:20260425T140936Z
UID:11368-1817197200-1817229600@vaccinateindiana.org
SUMMARY:IIC Versailles Clinic Hours
DESCRIPTION:
URL:https://vaccinateindiana.org/event/iic-versailles-clinic-hours-3/2027-08-02/
LOCATION:Indiana Immunization Coalition – Versailles\, 1154 South Ripley Estates Dr.\, Suite 1\, Versailles\, 47042\, United States
GEO:39.0598946;-85.2533476
X-APPLE-STRUCTURED-LOCATION;VALUE=URI;X-ADDRESS=Indiana Immunization Coalition – Versailles 1154 South Ripley Estates Dr. Suite 1 Versailles 47042 United States;X-APPLE-RADIUS=500;X-TITLE=1154 South Ripley Estates Dr.\, Suite 1:geo:-85.2533476,39.0598946
END:VEVENT
BEGIN:VEVENT
DTSTART;TZID=America/Indiana/Indianapolis:20270809T090000
DTEND;TZID=America/Indiana/Indianapolis:20270809T150000
DTSTAMP:20260426T000751
CREATED:20251130T210641Z
LAST-MODIFIED:20260425T141031Z
UID:11271-1817802000-1817823600@vaccinateindiana.org
SUMMARY:IIC Versailles Clinic Hours
DESCRIPTION:
URL:https://vaccinateindiana.org/event/iic-versailles-clinic-hours-2/2027-08-09/
LOCATION:Indiana Immunization Coalition – Versailles\, 1154 South Ripley Estates Dr.\, Suite 1\, Versailles\, 47042\, United States
GEO:39.0598946;-85.2533476
X-APPLE-STRUCTURED-LOCATION;VALUE=URI;X-ADDRESS=Indiana Immunization Coalition – Versailles 1154 South Ripley Estates Dr. Suite 1 Versailles 47042 United States;X-APPLE-RADIUS=500;X-TITLE=1154 South Ripley Estates Dr.\, Suite 1:geo:-85.2533476,39.0598946
END:VEVENT
BEGIN:VEVENT
DTSTART;TZID=America/Indiana/Indianapolis:20270816T090000
DTEND;TZID=America/Indiana/Indianapolis:20270816T150000
DTSTAMP:20260426T000751
CREATED:20251130T210641Z
LAST-MODIFIED:20260425T141032Z
UID:11272-1818406800-1818428400@vaccinateindiana.org
SUMMARY:IIC Versailles Clinic Hours
DESCRIPTION:
URL:https://vaccinateindiana.org/event/iic-versailles-clinic-hours-2/2027-08-16/
LOCATION:Indiana Immunization Coalition – Versailles\, 1154 South Ripley Estates Dr.\, Suite 1\, Versailles\, 47042\, United States
GEO:39.0598946;-85.2533476
X-APPLE-STRUCTURED-LOCATION;VALUE=URI;X-ADDRESS=Indiana Immunization Coalition – Versailles 1154 South Ripley Estates Dr. Suite 1 Versailles 47042 United States;X-APPLE-RADIUS=500;X-TITLE=1154 South Ripley Estates Dr.\, Suite 1:geo:-85.2533476,39.0598946
END:VEVENT
BEGIN:VEVENT
DTSTART;TZID=America/Indiana/Indianapolis:20270823T090000
DTEND;TZID=America/Indiana/Indianapolis:20270823T150000
DTSTAMP:20260426T000751
CREATED:20251130T210641Z
LAST-MODIFIED:20260425T141034Z
UID:11273-1819011600-1819033200@vaccinateindiana.org
SUMMARY:IIC Versailles Clinic Hours
DESCRIPTION:
URL:https://vaccinateindiana.org/event/iic-versailles-clinic-hours-2/2027-08-23/
LOCATION:Indiana Immunization Coalition – Versailles\, 1154 South Ripley Estates Dr.\, Suite 1\, Versailles\, 47042\, United States
GEO:39.0598946;-85.2533476
X-APPLE-STRUCTURED-LOCATION;VALUE=URI;X-ADDRESS=Indiana Immunization Coalition – Versailles 1154 South Ripley Estates Dr. Suite 1 Versailles 47042 United States;X-APPLE-RADIUS=500;X-TITLE=1154 South Ripley Estates Dr.\, Suite 1:geo:-85.2533476,39.0598946
END:VEVENT
BEGIN:VEVENT
DTSTART;TZID=America/Indiana/Indianapolis:20270830T090000
DTEND;TZID=America/Indiana/Indianapolis:20270830T150000
DTSTAMP:20260426T000751
CREATED:20251130T210641Z
LAST-MODIFIED:20260425T141034Z
UID:11274-1819616400-1819638000@vaccinateindiana.org
SUMMARY:IIC Versailles Clinic Hours
DESCRIPTION:
URL:https://vaccinateindiana.org/event/iic-versailles-clinic-hours-2/2027-08-30/
LOCATION:Indiana Immunization Coalition – Versailles\, 1154 South Ripley Estates Dr.\, Suite 1\, Versailles\, 47042\, United States
GEO:39.0598946;-85.2533476
X-APPLE-STRUCTURED-LOCATION;VALUE=URI;X-ADDRESS=Indiana Immunization Coalition – Versailles 1154 South Ripley Estates Dr. Suite 1 Versailles 47042 United States;X-APPLE-RADIUS=500;X-TITLE=1154 South Ripley Estates Dr.\, Suite 1:geo:-85.2533476,39.0598946
END:VEVENT
BEGIN:VEVENT
DTSTART;TZID=America/Indiana/Indianapolis:20270906T090000
DTEND;TZID=America/Indiana/Indianapolis:20270906T180000
DTSTAMP:20260426T000751
CREATED:20260425T140936Z
LAST-MODIFIED:20260425T140936Z
UID:11369-1820221200-1820253600@vaccinateindiana.org
SUMMARY:IIC Versailles Clinic Hours
DESCRIPTION:
URL:https://vaccinateindiana.org/event/iic-versailles-clinic-hours-3/2027-09-06/
LOCATION:Indiana Immunization Coalition – Versailles\, 1154 South Ripley Estates Dr.\, Suite 1\, Versailles\, 47042\, United States
GEO:39.0598946;-85.2533476
X-APPLE-STRUCTURED-LOCATION;VALUE=URI;X-ADDRESS=Indiana Immunization Coalition – Versailles 1154 South Ripley Estates Dr. Suite 1 Versailles 47042 United States;X-APPLE-RADIUS=500;X-TITLE=1154 South Ripley Estates Dr.\, Suite 1:geo:-85.2533476,39.0598946
END:VEVENT
BEGIN:VEVENT
DTSTART;TZID=America/Indiana/Indianapolis:20270913T090000
DTEND;TZID=America/Indiana/Indianapolis:20270913T150000
DTSTAMP:20260426T000751
CREATED:20251130T210641Z
LAST-MODIFIED:20260425T141034Z
UID:11275-1820826000-1820847600@vaccinateindiana.org
SUMMARY:IIC Versailles Clinic Hours
DESCRIPTION:
URL:https://vaccinateindiana.org/event/iic-versailles-clinic-hours-2/2027-09-13/
LOCATION:Indiana Immunization Coalition – Versailles\, 1154 South Ripley Estates Dr.\, Suite 1\, Versailles\, 47042\, United States
GEO:39.0598946;-85.2533476
X-APPLE-STRUCTURED-LOCATION;VALUE=URI;X-ADDRESS=Indiana Immunization Coalition – Versailles 1154 South Ripley Estates Dr. Suite 1 Versailles 47042 United States;X-APPLE-RADIUS=500;X-TITLE=1154 South Ripley Estates Dr.\, Suite 1:geo:-85.2533476,39.0598946
END:VEVENT
BEGIN:VEVENT
DTSTART;TZID=America/Indiana/Indianapolis:20270920T090000
DTEND;TZID=America/Indiana/Indianapolis:20270920T150000
DTSTAMP:20260426T000751
CREATED:20251130T210641Z
LAST-MODIFIED:20260425T141034Z
UID:11276-1821430800-1821452400@vaccinateindiana.org
SUMMARY:IIC Versailles Clinic Hours
DESCRIPTION:
URL:https://vaccinateindiana.org/event/iic-versailles-clinic-hours-2/2027-09-20/
LOCATION:Indiana Immunization Coalition – Versailles\, 1154 South Ripley Estates Dr.\, Suite 1\, Versailles\, 47042\, United States
GEO:39.0598946;-85.2533476
X-APPLE-STRUCTURED-LOCATION;VALUE=URI;X-ADDRESS=Indiana Immunization Coalition – Versailles 1154 South Ripley Estates Dr. Suite 1 Versailles 47042 United States;X-APPLE-RADIUS=500;X-TITLE=1154 South Ripley Estates Dr.\, Suite 1:geo:-85.2533476,39.0598946
END:VEVENT
BEGIN:VEVENT
DTSTART;TZID=America/Indiana/Indianapolis:20270927T090000
DTEND;TZID=America/Indiana/Indianapolis:20270927T150000
DTSTAMP:20260426T000751
CREATED:20251130T210641Z
LAST-MODIFIED:20260425T141035Z
UID:11277-1822035600-1822057200@vaccinateindiana.org
SUMMARY:IIC Versailles Clinic Hours
DESCRIPTION:
URL:https://vaccinateindiana.org/event/iic-versailles-clinic-hours-2/2027-09-27/
LOCATION:Indiana Immunization Coalition – Versailles\, 1154 South Ripley Estates Dr.\, Suite 1\, Versailles\, 47042\, United States
GEO:39.0598946;-85.2533476
X-APPLE-STRUCTURED-LOCATION;VALUE=URI;X-ADDRESS=Indiana Immunization Coalition – Versailles 1154 South Ripley Estates Dr. Suite 1 Versailles 47042 United States;X-APPLE-RADIUS=500;X-TITLE=1154 South Ripley Estates Dr.\, Suite 1:geo:-85.2533476,39.0598946
END:VEVENT
BEGIN:VEVENT
DTSTART;TZID=America/Indiana/Indianapolis:20271004T090000
DTEND;TZID=America/Indiana/Indianapolis:20271004T180000
DTSTAMP:20260426T000751
CREATED:20260425T140936Z
LAST-MODIFIED:20260425T140936Z
UID:11370-1822640400-1822672800@vaccinateindiana.org
SUMMARY:IIC Versailles Clinic Hours
DESCRIPTION:
URL:https://vaccinateindiana.org/event/iic-versailles-clinic-hours-3/2027-10-04/
LOCATION:Indiana Immunization Coalition – Versailles\, 1154 South Ripley Estates Dr.\, Suite 1\, Versailles\, 47042\, United States
GEO:39.0598946;-85.2533476
X-APPLE-STRUCTURED-LOCATION;VALUE=URI;X-ADDRESS=Indiana Immunization Coalition – Versailles 1154 South Ripley Estates Dr. Suite 1 Versailles 47042 United States;X-APPLE-RADIUS=500;X-TITLE=1154 South Ripley Estates Dr.\, Suite 1:geo:-85.2533476,39.0598946
END:VEVENT
BEGIN:VEVENT
DTSTART;TZID=America/Indiana/Indianapolis:20271011T090000
DTEND;TZID=America/Indiana/Indianapolis:20271011T150000
DTSTAMP:20260426T000751
CREATED:20251130T210641Z
LAST-MODIFIED:20260425T141035Z
UID:11278-1823245200-1823266800@vaccinateindiana.org
SUMMARY:IIC Versailles Clinic Hours
DESCRIPTION:
URL:https://vaccinateindiana.org/event/iic-versailles-clinic-hours-2/2027-10-11/
LOCATION:Indiana Immunization Coalition – Versailles\, 1154 South Ripley Estates Dr.\, Suite 1\, Versailles\, 47042\, United States
GEO:39.0598946;-85.2533476
X-APPLE-STRUCTURED-LOCATION;VALUE=URI;X-ADDRESS=Indiana Immunization Coalition – Versailles 1154 South Ripley Estates Dr. Suite 1 Versailles 47042 United States;X-APPLE-RADIUS=500;X-TITLE=1154 South Ripley Estates Dr.\, Suite 1:geo:-85.2533476,39.0598946
END:VEVENT
BEGIN:VEVENT
DTSTART;TZID=America/Indiana/Indianapolis:20271018T090000
DTEND;TZID=America/Indiana/Indianapolis:20271018T150000
DTSTAMP:20260426T000751
CREATED:20251130T210641Z
LAST-MODIFIED:20260425T141035Z
UID:11279-1823850000-1823871600@vaccinateindiana.org
SUMMARY:IIC Versailles Clinic Hours
DESCRIPTION:
URL:https://vaccinateindiana.org/event/iic-versailles-clinic-hours-2/2027-10-18/
LOCATION:Indiana Immunization Coalition – Versailles\, 1154 South Ripley Estates Dr.\, Suite 1\, Versailles\, 47042\, United States
GEO:39.0598946;-85.2533476
X-APPLE-STRUCTURED-LOCATION;VALUE=URI;X-ADDRESS=Indiana Immunization Coalition – Versailles 1154 South Ripley Estates Dr. Suite 1 Versailles 47042 United States;X-APPLE-RADIUS=500;X-TITLE=1154 South Ripley Estates Dr.\, Suite 1:geo:-85.2533476,39.0598946
END:VEVENT
BEGIN:VEVENT
DTSTART;TZID=America/Indiana/Indianapolis:20271025T090000
DTEND;TZID=America/Indiana/Indianapolis:20271025T150000
DTSTAMP:20260426T000751
CREATED:20251130T210641Z
LAST-MODIFIED:20260425T141035Z
UID:11280-1824454800-1824476400@vaccinateindiana.org
SUMMARY:IIC Versailles Clinic Hours
DESCRIPTION:
URL:https://vaccinateindiana.org/event/iic-versailles-clinic-hours-2/2027-10-25/
LOCATION:Indiana Immunization Coalition – Versailles\, 1154 South Ripley Estates Dr.\, Suite 1\, Versailles\, 47042\, United States
GEO:39.0598946;-85.2533476
X-APPLE-STRUCTURED-LOCATION;VALUE=URI;X-ADDRESS=Indiana Immunization Coalition – Versailles 1154 South Ripley Estates Dr. Suite 1 Versailles 47042 United States;X-APPLE-RADIUS=500;X-TITLE=1154 South Ripley Estates Dr.\, Suite 1:geo:-85.2533476,39.0598946
END:VEVENT
BEGIN:VEVENT
DTSTART;TZID=America/Indiana/Indianapolis:20271101T090000
DTEND;TZID=America/Indiana/Indianapolis:20271101T180000
DTSTAMP:20260426T000751
CREATED:20260425T140936Z
LAST-MODIFIED:20260425T140936Z
UID:11371-1825059600-1825092000@vaccinateindiana.org
SUMMARY:IIC Versailles Clinic Hours
DESCRIPTION:
URL:https://vaccinateindiana.org/event/iic-versailles-clinic-hours-3/2027-11-01/
LOCATION:Indiana Immunization Coalition – Versailles\, 1154 South Ripley Estates Dr.\, Suite 1\, Versailles\, 47042\, United States
GEO:39.0598946;-85.2533476
X-APPLE-STRUCTURED-LOCATION;VALUE=URI;X-ADDRESS=Indiana Immunization Coalition – Versailles 1154 South Ripley Estates Dr. Suite 1 Versailles 47042 United States;X-APPLE-RADIUS=500;X-TITLE=1154 South Ripley Estates Dr.\, Suite 1:geo:-85.2533476,39.0598946
END:VEVENT
BEGIN:VEVENT
DTSTART;TZID=America/Indiana/Indianapolis:20271108T090000
DTEND;TZID=America/Indiana/Indianapolis:20271108T150000
DTSTAMP:20260426T000751
CREATED:20251130T210641Z
LAST-MODIFIED:20260425T141036Z
UID:11281-1825664400-1825686000@vaccinateindiana.org
SUMMARY:IIC Versailles Clinic Hours
DESCRIPTION:
URL:https://vaccinateindiana.org/event/iic-versailles-clinic-hours-2/2027-11-08/
LOCATION:Indiana Immunization Coalition – Versailles\, 1154 South Ripley Estates Dr.\, Suite 1\, Versailles\, 47042\, United States
GEO:39.0598946;-85.2533476
X-APPLE-STRUCTURED-LOCATION;VALUE=URI;X-ADDRESS=Indiana Immunization Coalition – Versailles 1154 South Ripley Estates Dr. Suite 1 Versailles 47042 United States;X-APPLE-RADIUS=500;X-TITLE=1154 South Ripley Estates Dr.\, Suite 1:geo:-85.2533476,39.0598946
END:VEVENT
BEGIN:VEVENT
DTSTART;TZID=America/Indiana/Indianapolis:20271115T090000
DTEND;TZID=America/Indiana/Indianapolis:20271115T150000
DTSTAMP:20260426T000751
CREATED:20251130T210641Z
LAST-MODIFIED:20260425T141036Z
UID:11282-1826269200-1826290800@vaccinateindiana.org
SUMMARY:IIC Versailles Clinic Hours
DESCRIPTION:
URL:https://vaccinateindiana.org/event/iic-versailles-clinic-hours-2/2027-11-15/
LOCATION:Indiana Immunization Coalition – Versailles\, 1154 South Ripley Estates Dr.\, Suite 1\, Versailles\, 47042\, United States
GEO:39.0598946;-85.2533476
X-APPLE-STRUCTURED-LOCATION;VALUE=URI;X-ADDRESS=Indiana Immunization Coalition – Versailles 1154 South Ripley Estates Dr. Suite 1 Versailles 47042 United States;X-APPLE-RADIUS=500;X-TITLE=1154 South Ripley Estates Dr.\, Suite 1:geo:-85.2533476,39.0598946
END:VEVENT
BEGIN:VEVENT
DTSTART;TZID=America/Indiana/Indianapolis:20271122T090000
DTEND;TZID=America/Indiana/Indianapolis:20271122T150000
DTSTAMP:20260426T000751
CREATED:20251130T210641Z
LAST-MODIFIED:20260425T141038Z
UID:11283-1826874000-1826895600@vaccinateindiana.org
SUMMARY:IIC Versailles Clinic Hours
DESCRIPTION:
URL:https://vaccinateindiana.org/event/iic-versailles-clinic-hours-2/2027-11-22/
LOCATION:Indiana Immunization Coalition – Versailles\, 1154 South Ripley Estates Dr.\, Suite 1\, Versailles\, 47042\, United States
GEO:39.0598946;-85.2533476
X-APPLE-STRUCTURED-LOCATION;VALUE=URI;X-ADDRESS=Indiana Immunization Coalition – Versailles 1154 South Ripley Estates Dr. Suite 1 Versailles 47042 United States;X-APPLE-RADIUS=500;X-TITLE=1154 South Ripley Estates Dr.\, Suite 1:geo:-85.2533476,39.0598946
END:VEVENT
BEGIN:VEVENT
DTSTART;TZID=America/Indiana/Indianapolis:20271129T090000
DTEND;TZID=America/Indiana/Indianapolis:20271129T150000
DTSTAMP:20260426T000751
CREATED:20251130T210641Z
LAST-MODIFIED:20260425T141039Z
UID:11284-1827478800-1827500400@vaccinateindiana.org
SUMMARY:IIC Versailles Clinic Hours
DESCRIPTION:
URL:https://vaccinateindiana.org/event/iic-versailles-clinic-hours-2/2027-11-29/
LOCATION:Indiana Immunization Coalition – Versailles\, 1154 South Ripley Estates Dr.\, Suite 1\, Versailles\, 47042\, United States
GEO:39.0598946;-85.2533476
X-APPLE-STRUCTURED-LOCATION;VALUE=URI;X-ADDRESS=Indiana Immunization Coalition – Versailles 1154 South Ripley Estates Dr. Suite 1 Versailles 47042 United States;X-APPLE-RADIUS=500;X-TITLE=1154 South Ripley Estates Dr.\, Suite 1:geo:-85.2533476,39.0598946
END:VEVENT
BEGIN:VEVENT
DTSTART;TZID=America/Indiana/Indianapolis:20271206T090000
DTEND;TZID=America/Indiana/Indianapolis:20271206T180000
DTSTAMP:20260426T000751
CREATED:20260425T140936Z
LAST-MODIFIED:20260425T140936Z
UID:11372-1828083600-1828116000@vaccinateindiana.org
SUMMARY:IIC Versailles Clinic Hours
DESCRIPTION:
URL:https://vaccinateindiana.org/event/iic-versailles-clinic-hours-3/2027-12-06/
LOCATION:Indiana Immunization Coalition – Versailles\, 1154 South Ripley Estates Dr.\, Suite 1\, Versailles\, 47042\, United States
GEO:39.0598946;-85.2533476
X-APPLE-STRUCTURED-LOCATION;VALUE=URI;X-ADDRESS=Indiana Immunization Coalition – Versailles 1154 South Ripley Estates Dr. Suite 1 Versailles 47042 United States;X-APPLE-RADIUS=500;X-TITLE=1154 South Ripley Estates Dr.\, Suite 1:geo:-85.2533476,39.0598946
END:VEVENT
BEGIN:VEVENT
DTSTART;TZID=America/Indiana/Indianapolis:20271213T090000
DTEND;TZID=America/Indiana/Indianapolis:20271213T150000
DTSTAMP:20260426T000751
CREATED:20251130T210641Z
LAST-MODIFIED:20260425T141040Z
UID:11285-1828688400-1828710000@vaccinateindiana.org
SUMMARY:IIC Versailles Clinic Hours
DESCRIPTION:
URL:https://vaccinateindiana.org/event/iic-versailles-clinic-hours-2/2027-12-13/
LOCATION:Indiana Immunization Coalition – Versailles\, 1154 South Ripley Estates Dr.\, Suite 1\, Versailles\, 47042\, United States
GEO:39.0598946;-85.2533476
X-APPLE-STRUCTURED-LOCATION;VALUE=URI;X-ADDRESS=Indiana Immunization Coalition – Versailles 1154 South Ripley Estates Dr. Suite 1 Versailles 47042 United States;X-APPLE-RADIUS=500;X-TITLE=1154 South Ripley Estates Dr.\, Suite 1:geo:-85.2533476,39.0598946
END:VEVENT
BEGIN:VEVENT
DTSTART;TZID=America/Indiana/Indianapolis:20271220T090000
DTEND;TZID=America/Indiana/Indianapolis:20271220T150000
DTSTAMP:20260426T000751
CREATED:20251130T210641Z
LAST-MODIFIED:20260425T141040Z
UID:11286-1829293200-1829314800@vaccinateindiana.org
SUMMARY:IIC Versailles Clinic Hours
DESCRIPTION:
URL:https://vaccinateindiana.org/event/iic-versailles-clinic-hours-2/2027-12-20/
LOCATION:Indiana Immunization Coalition – Versailles\, 1154 South Ripley Estates Dr.\, Suite 1\, Versailles\, 47042\, United States
GEO:39.0598946;-85.2533476
X-APPLE-STRUCTURED-LOCATION;VALUE=URI;X-ADDRESS=Indiana Immunization Coalition – Versailles 1154 South Ripley Estates Dr. Suite 1 Versailles 47042 United States;X-APPLE-RADIUS=500;X-TITLE=1154 South Ripley Estates Dr.\, Suite 1:geo:-85.2533476,39.0598946
END:VEVENT
BEGIN:VEVENT
DTSTART;TZID=America/Indiana/Indianapolis:20271227T090000
DTEND;TZID=America/Indiana/Indianapolis:20271227T150000
DTSTAMP:20260426T000751
CREATED:20251130T210641Z
LAST-MODIFIED:20260425T141040Z
UID:11287-1829898000-1829919600@vaccinateindiana.org
SUMMARY:IIC Versailles Clinic Hours
DESCRIPTION:
URL:https://vaccinateindiana.org/event/iic-versailles-clinic-hours-2/2027-12-27/
LOCATION:Indiana Immunization Coalition – Versailles\, 1154 South Ripley Estates Dr.\, Suite 1\, Versailles\, 47042\, United States
GEO:39.0598946;-85.2533476
X-APPLE-STRUCTURED-LOCATION;VALUE=URI;X-ADDRESS=Indiana Immunization Coalition – Versailles 1154 South Ripley Estates Dr. Suite 1 Versailles 47042 United States;X-APPLE-RADIUS=500;X-TITLE=1154 South Ripley Estates Dr.\, Suite 1:geo:-85.2533476,39.0598946
END:VEVENT
BEGIN:VEVENT
DTSTART;TZID=America/Indiana/Indianapolis:20280103T090000
DTEND;TZID=America/Indiana/Indianapolis:20280103T180000
DTSTAMP:20260426T000751
CREATED:20260425T140936Z
LAST-MODIFIED:20260425T140936Z
UID:11373-1830502800-1830535200@vaccinateindiana.org
SUMMARY:IIC Versailles Clinic Hours
DESCRIPTION:
URL:https://vaccinateindiana.org/event/iic-versailles-clinic-hours-3/2028-01-03/
LOCATION:Indiana Immunization Coalition – Versailles\, 1154 South Ripley Estates Dr.\, Suite 1\, Versailles\, 47042\, United States
GEO:39.0598946;-85.2533476
X-APPLE-STRUCTURED-LOCATION;VALUE=URI;X-ADDRESS=Indiana Immunization Coalition – Versailles 1154 South Ripley Estates Dr. Suite 1 Versailles 47042 United States;X-APPLE-RADIUS=500;X-TITLE=1154 South Ripley Estates Dr.\, Suite 1:geo:-85.2533476,39.0598946
END:VEVENT
BEGIN:VEVENT
DTSTART;TZID=America/Indiana/Indianapolis:20280110T090000
DTEND;TZID=America/Indiana/Indianapolis:20280110T150000
DTSTAMP:20260426T000751
CREATED:20251130T210641Z
LAST-MODIFIED:20260425T141040Z
UID:11288-1831107600-1831129200@vaccinateindiana.org
SUMMARY:IIC Versailles Clinic Hours
DESCRIPTION:
URL:https://vaccinateindiana.org/event/iic-versailles-clinic-hours-2/2028-01-10/
LOCATION:Indiana Immunization Coalition – Versailles\, 1154 South Ripley Estates Dr.\, Suite 1\, Versailles\, 47042\, United States
GEO:39.0598946;-85.2533476
X-APPLE-STRUCTURED-LOCATION;VALUE=URI;X-ADDRESS=Indiana Immunization Coalition – Versailles 1154 South Ripley Estates Dr. Suite 1 Versailles 47042 United States;X-APPLE-RADIUS=500;X-TITLE=1154 South Ripley Estates Dr.\, Suite 1:geo:-85.2533476,39.0598946
END:VEVENT
BEGIN:VEVENT
DTSTART;TZID=America/Indiana/Indianapolis:20280117T090000
DTEND;TZID=America/Indiana/Indianapolis:20280117T150000
DTSTAMP:20260426T000751
CREATED:20251130T210641Z
LAST-MODIFIED:20260425T141041Z
UID:11289-1831712400-1831734000@vaccinateindiana.org
SUMMARY:IIC Versailles Clinic Hours
DESCRIPTION:
URL:https://vaccinateindiana.org/event/iic-versailles-clinic-hours-2/2028-01-17/
LOCATION:Indiana Immunization Coalition – Versailles\, 1154 South Ripley Estates Dr.\, Suite 1\, Versailles\, 47042\, United States
GEO:39.0598946;-85.2533476
X-APPLE-STRUCTURED-LOCATION;VALUE=URI;X-ADDRESS=Indiana Immunization Coalition – Versailles 1154 South Ripley Estates Dr. Suite 1 Versailles 47042 United States;X-APPLE-RADIUS=500;X-TITLE=1154 South Ripley Estates Dr.\, Suite 1:geo:-85.2533476,39.0598946
END:VEVENT
END:VCALENDAR