BEGIN:VCALENDAR
VERSION:2.0
PRODID:-//Vaccinate Indiana - ECPv6.15.20//NONSGML v1.0//EN
CALSCALE:GREGORIAN
METHOD:PUBLISH
X-WR-CALNAME:Vaccinate Indiana
X-ORIGINAL-URL:https://vaccinateindiana.org
X-WR-CALDESC:Events for Vaccinate Indiana
REFRESH-INTERVAL;VALUE=DURATION:PT1H
X-Robots-Tag:noindex
X-PUBLISHED-TTL:PT1H
BEGIN:VTIMEZONE
TZID:America/Indiana/Indianapolis
BEGIN:DAYLIGHT
TZOFFSETFROM:-0500
TZOFFSETTO:-0400
TZNAME:EDT
DTSTART:20250309T070000
END:DAYLIGHT
BEGIN:STANDARD
TZOFFSETFROM:-0400
TZOFFSETTO:-0500
TZNAME:EST
DTSTART:20251102T060000
END:STANDARD
BEGIN:DAYLIGHT
TZOFFSETFROM:-0500
TZOFFSETTO:-0400
TZNAME:EDT
DTSTART:20260308T070000
END:DAYLIGHT
BEGIN:STANDARD
TZOFFSETFROM:-0400
TZOFFSETTO:-0500
TZNAME:EST
DTSTART:20261101T060000
END:STANDARD
BEGIN:DAYLIGHT
TZOFFSETFROM:-0500
TZOFFSETTO:-0400
TZNAME:EDT
DTSTART:20270314T070000
END:DAYLIGHT
BEGIN:STANDARD
TZOFFSETFROM:-0400
TZOFFSETTO:-0500
TZNAME:EST
DTSTART:20271107T060000
END:STANDARD
BEGIN:DAYLIGHT
TZOFFSETFROM:-0500
TZOFFSETTO:-0400
TZNAME:EDT
DTSTART:20280312T070000
END:DAYLIGHT
BEGIN:STANDARD
TZOFFSETFROM:-0400
TZOFFSETTO:-0500
TZNAME:EST
DTSTART:20281105T060000
END:STANDARD
END:VTIMEZONE
BEGIN:VEVENT
DTSTART;TZID=America/Indiana/Indianapolis:20261123T090000
DTEND;TZID=America/Indiana/Indianapolis:20261123T150000
DTSTAMP:20260425T202110
CREATED:20251130T210641Z
LAST-MODIFIED:20260425T141019Z
UID:11243-1795424400-1795446000@vaccinateindiana.org
SUMMARY:IIC Versailles Clinic Hours
DESCRIPTION:
URL:https://vaccinateindiana.org/event/iic-versailles-clinic-hours-2/2026-11-23/
LOCATION:Indiana Immunization Coalition – Versailles\, 1154 South Ripley Estates Dr.\, Suite 1\, Versailles\, 47042\, United States
GEO:39.0598946;-85.2533476
X-APPLE-STRUCTURED-LOCATION;VALUE=URI;X-ADDRESS=Indiana Immunization Coalition – Versailles 1154 South Ripley Estates Dr. Suite 1 Versailles 47042 United States;X-APPLE-RADIUS=500;X-TITLE=1154 South Ripley Estates Dr.\, Suite 1:geo:-85.2533476,39.0598946
END:VEVENT
BEGIN:VEVENT
DTSTART;TZID=America/Indiana/Indianapolis:20261123T090000
DTEND;TZID=America/Indiana/Indianapolis:20261123T150000
DTSTAMP:20260425T202110
CREATED:20251130T212124Z
LAST-MODIFIED:20260224T183851Z
UID:11082-1795424400-1795446000@vaccinateindiana.org
SUMMARY:Open Office Hours
DESCRIPTION:
URL:https://vaccinateindiana.org/event/open-office-hours-3/2026-11-23/
LOCATION:Indiana Immunization Coalition\, 6919 E 10th St Building C\, Suite 2\, Indianapolis\, IN\, 46219\, United States
GEO:39.763905;-86.073524
X-APPLE-STRUCTURED-LOCATION;VALUE=URI;X-ADDRESS=Indiana Immunization Coalition 6919 E 10th St Building C Suite 2 Indianapolis IN 46219 United States;X-APPLE-RADIUS=500;X-TITLE=6919 E 10th St Building C\, Suite 2:geo:-86.073524,39.763905
END:VEVENT
BEGIN:VEVENT
DTSTART;TZID=America/Indiana/Indianapolis:20261130T090000
DTEND;TZID=America/Indiana/Indianapolis:20261130T150000
DTSTAMP:20260425T202110
CREATED:20251130T210641Z
LAST-MODIFIED:20260425T141019Z
UID:11244-1796029200-1796050800@vaccinateindiana.org
SUMMARY:IIC Versailles Clinic Hours
DESCRIPTION:
URL:https://vaccinateindiana.org/event/iic-versailles-clinic-hours-2/2026-11-30/
LOCATION:Indiana Immunization Coalition – Versailles\, 1154 South Ripley Estates Dr.\, Suite 1\, Versailles\, 47042\, United States
GEO:39.0598946;-85.2533476
X-APPLE-STRUCTURED-LOCATION;VALUE=URI;X-ADDRESS=Indiana Immunization Coalition – Versailles 1154 South Ripley Estates Dr. Suite 1 Versailles 47042 United States;X-APPLE-RADIUS=500;X-TITLE=1154 South Ripley Estates Dr.\, Suite 1:geo:-85.2533476,39.0598946
END:VEVENT
BEGIN:VEVENT
DTSTART;TZID=America/Indiana/Indianapolis:20261130T090000
DTEND;TZID=America/Indiana/Indianapolis:20261130T150000
DTSTAMP:20260425T202110
CREATED:20251130T212124Z
LAST-MODIFIED:20260224T183851Z
UID:11083-1796029200-1796050800@vaccinateindiana.org
SUMMARY:Open Office Hours
DESCRIPTION:
URL:https://vaccinateindiana.org/event/open-office-hours-3/2026-11-30/
LOCATION:Indiana Immunization Coalition\, 6919 E 10th St Building C\, Suite 2\, Indianapolis\, IN\, 46219\, United States
GEO:39.763905;-86.073524
X-APPLE-STRUCTURED-LOCATION;VALUE=URI;X-ADDRESS=Indiana Immunization Coalition 6919 E 10th St Building C Suite 2 Indianapolis IN 46219 United States;X-APPLE-RADIUS=500;X-TITLE=6919 E 10th St Building C\, Suite 2:geo:-86.073524,39.763905
END:VEVENT
BEGIN:VEVENT
DTSTART;TZID=America/Indiana/Indianapolis:20261207T090000
DTEND;TZID=America/Indiana/Indianapolis:20261207T180000
DTSTAMP:20260425T202110
CREATED:20251130T212347Z
LAST-MODIFIED:20251130T212347Z
UID:11097-1796634000-1796666400@vaccinateindiana.org
SUMMARY:Open Office Hours
DESCRIPTION:
URL:https://vaccinateindiana.org/event/open-office-hours-4/2026-12-07/
LOCATION:Indiana Immunization Coalition\, 6919 E 10th St Building C\, Suite 2\, Indianapolis\, IN\, 46219\, United States
GEO:39.763905;-86.073524
X-APPLE-STRUCTURED-LOCATION;VALUE=URI;X-ADDRESS=Indiana Immunization Coalition 6919 E 10th St Building C Suite 2 Indianapolis IN 46219 United States;X-APPLE-RADIUS=500;X-TITLE=6919 E 10th St Building C\, Suite 2:geo:-86.073524,39.763905
END:VEVENT
BEGIN:VEVENT
DTSTART;TZID=America/Indiana/Indianapolis:20261207T090000
DTEND;TZID=America/Indiana/Indianapolis:20261207T180000
DTSTAMP:20260425T202110
CREATED:20260425T140936Z
LAST-MODIFIED:20260425T140936Z
UID:11361-1796634000-1796666400@vaccinateindiana.org
SUMMARY:IIC Versailles Clinic Hours
DESCRIPTION:
URL:https://vaccinateindiana.org/event/iic-versailles-clinic-hours-3/2026-12-07/
LOCATION:Indiana Immunization Coalition – Versailles\, 1154 South Ripley Estates Dr.\, Suite 1\, Versailles\, 47042\, United States
GEO:39.0598946;-85.2533476
X-APPLE-STRUCTURED-LOCATION;VALUE=URI;X-ADDRESS=Indiana Immunization Coalition – Versailles 1154 South Ripley Estates Dr. Suite 1 Versailles 47042 United States;X-APPLE-RADIUS=500;X-TITLE=1154 South Ripley Estates Dr.\, Suite 1:geo:-85.2533476,39.0598946
END:VEVENT
BEGIN:VEVENT
DTSTART;TZID=America/Indiana/Indianapolis:20261214T090000
DTEND;TZID=America/Indiana/Indianapolis:20261214T150000
DTSTAMP:20260425T202110
CREATED:20251130T210641Z
LAST-MODIFIED:20260425T141019Z
UID:11245-1797238800-1797260400@vaccinateindiana.org
SUMMARY:IIC Versailles Clinic Hours
DESCRIPTION:
URL:https://vaccinateindiana.org/event/iic-versailles-clinic-hours-2/2026-12-14/
LOCATION:Indiana Immunization Coalition – Versailles\, 1154 South Ripley Estates Dr.\, Suite 1\, Versailles\, 47042\, United States
GEO:39.0598946;-85.2533476
X-APPLE-STRUCTURED-LOCATION;VALUE=URI;X-ADDRESS=Indiana Immunization Coalition – Versailles 1154 South Ripley Estates Dr. Suite 1 Versailles 47042 United States;X-APPLE-RADIUS=500;X-TITLE=1154 South Ripley Estates Dr.\, Suite 1:geo:-85.2533476,39.0598946
END:VEVENT
BEGIN:VEVENT
DTSTART;TZID=America/Indiana/Indianapolis:20261214T090000
DTEND;TZID=America/Indiana/Indianapolis:20261214T150000
DTSTAMP:20260425T202110
CREATED:20251130T212124Z
LAST-MODIFIED:20260224T183852Z
UID:11084-1797238800-1797260400@vaccinateindiana.org
SUMMARY:Open Office Hours
DESCRIPTION:
URL:https://vaccinateindiana.org/event/open-office-hours-3/2026-12-14/
LOCATION:Indiana Immunization Coalition\, 6919 E 10th St Building C\, Suite 2\, Indianapolis\, IN\, 46219\, United States
GEO:39.763905;-86.073524
X-APPLE-STRUCTURED-LOCATION;VALUE=URI;X-ADDRESS=Indiana Immunization Coalition 6919 E 10th St Building C Suite 2 Indianapolis IN 46219 United States;X-APPLE-RADIUS=500;X-TITLE=6919 E 10th St Building C\, Suite 2:geo:-86.073524,39.763905
END:VEVENT
BEGIN:VEVENT
DTSTART;TZID=America/Indiana/Indianapolis:20261221T090000
DTEND;TZID=America/Indiana/Indianapolis:20261221T150000
DTSTAMP:20260425T202110
CREATED:20251130T210641Z
LAST-MODIFIED:20260425T141020Z
UID:11246-1797843600-1797865200@vaccinateindiana.org
SUMMARY:IIC Versailles Clinic Hours
DESCRIPTION:
URL:https://vaccinateindiana.org/event/iic-versailles-clinic-hours-2/2026-12-21/
LOCATION:Indiana Immunization Coalition – Versailles\, 1154 South Ripley Estates Dr.\, Suite 1\, Versailles\, 47042\, United States
GEO:39.0598946;-85.2533476
X-APPLE-STRUCTURED-LOCATION;VALUE=URI;X-ADDRESS=Indiana Immunization Coalition – Versailles 1154 South Ripley Estates Dr. Suite 1 Versailles 47042 United States;X-APPLE-RADIUS=500;X-TITLE=1154 South Ripley Estates Dr.\, Suite 1:geo:-85.2533476,39.0598946
END:VEVENT
BEGIN:VEVENT
DTSTART;TZID=America/Indiana/Indianapolis:20261221T090000
DTEND;TZID=America/Indiana/Indianapolis:20261221T150000
DTSTAMP:20260425T202110
CREATED:20251130T212124Z
LAST-MODIFIED:20260224T183852Z
UID:11085-1797843600-1797865200@vaccinateindiana.org
SUMMARY:Open Office Hours
DESCRIPTION:
URL:https://vaccinateindiana.org/event/open-office-hours-3/2026-12-21/
LOCATION:Indiana Immunization Coalition\, 6919 E 10th St Building C\, Suite 2\, Indianapolis\, IN\, 46219\, United States
GEO:39.763905;-86.073524
X-APPLE-STRUCTURED-LOCATION;VALUE=URI;X-ADDRESS=Indiana Immunization Coalition 6919 E 10th St Building C Suite 2 Indianapolis IN 46219 United States;X-APPLE-RADIUS=500;X-TITLE=6919 E 10th St Building C\, Suite 2:geo:-86.073524,39.763905
END:VEVENT
BEGIN:VEVENT
DTSTART;TZID=America/Indiana/Indianapolis:20261228T090000
DTEND;TZID=America/Indiana/Indianapolis:20261228T150000
DTSTAMP:20260425T202110
CREATED:20251130T210641Z
LAST-MODIFIED:20260425T141020Z
UID:11247-1798448400-1798470000@vaccinateindiana.org
SUMMARY:IIC Versailles Clinic Hours
DESCRIPTION:
URL:https://vaccinateindiana.org/event/iic-versailles-clinic-hours-2/2026-12-28/
LOCATION:Indiana Immunization Coalition – Versailles\, 1154 South Ripley Estates Dr.\, Suite 1\, Versailles\, 47042\, United States
GEO:39.0598946;-85.2533476
X-APPLE-STRUCTURED-LOCATION;VALUE=URI;X-ADDRESS=Indiana Immunization Coalition – Versailles 1154 South Ripley Estates Dr. Suite 1 Versailles 47042 United States;X-APPLE-RADIUS=500;X-TITLE=1154 South Ripley Estates Dr.\, Suite 1:geo:-85.2533476,39.0598946
END:VEVENT
BEGIN:VEVENT
DTSTART;TZID=America/Indiana/Indianapolis:20261228T090000
DTEND;TZID=America/Indiana/Indianapolis:20261228T150000
DTSTAMP:20260425T202110
CREATED:20251130T212124Z
LAST-MODIFIED:20260224T183852Z
UID:11086-1798448400-1798470000@vaccinateindiana.org
SUMMARY:Open Office Hours
DESCRIPTION:
URL:https://vaccinateindiana.org/event/open-office-hours-3/2026-12-28/
LOCATION:Indiana Immunization Coalition\, 6919 E 10th St Building C\, Suite 2\, Indianapolis\, IN\, 46219\, United States
GEO:39.763905;-86.073524
X-APPLE-STRUCTURED-LOCATION;VALUE=URI;X-ADDRESS=Indiana Immunization Coalition 6919 E 10th St Building C Suite 2 Indianapolis IN 46219 United States;X-APPLE-RADIUS=500;X-TITLE=6919 E 10th St Building C\, Suite 2:geo:-86.073524,39.763905
END:VEVENT
BEGIN:VEVENT
DTSTART;TZID=America/Indiana/Indianapolis:20270104T090000
DTEND;TZID=America/Indiana/Indianapolis:20270104T180000
DTSTAMP:20260425T202110
CREATED:20260425T140936Z
LAST-MODIFIED:20260425T140936Z
UID:11362-1799053200-1799085600@vaccinateindiana.org
SUMMARY:IIC Versailles Clinic Hours
DESCRIPTION:
URL:https://vaccinateindiana.org/event/iic-versailles-clinic-hours-3/2027-01-04/
LOCATION:Indiana Immunization Coalition – Versailles\, 1154 South Ripley Estates Dr.\, Suite 1\, Versailles\, 47042\, United States
GEO:39.0598946;-85.2533476
X-APPLE-STRUCTURED-LOCATION;VALUE=URI;X-ADDRESS=Indiana Immunization Coalition – Versailles 1154 South Ripley Estates Dr. Suite 1 Versailles 47042 United States;X-APPLE-RADIUS=500;X-TITLE=1154 South Ripley Estates Dr.\, Suite 1:geo:-85.2533476,39.0598946
END:VEVENT
BEGIN:VEVENT
DTSTART;TZID=America/Indiana/Indianapolis:20270111T090000
DTEND;TZID=America/Indiana/Indianapolis:20270111T150000
DTSTAMP:20260425T202110
CREATED:20251130T210641Z
LAST-MODIFIED:20260425T141020Z
UID:11248-1799658000-1799679600@vaccinateindiana.org
SUMMARY:IIC Versailles Clinic Hours
DESCRIPTION:
URL:https://vaccinateindiana.org/event/iic-versailles-clinic-hours-2/2027-01-11/
LOCATION:Indiana Immunization Coalition – Versailles\, 1154 South Ripley Estates Dr.\, Suite 1\, Versailles\, 47042\, United States
GEO:39.0598946;-85.2533476
X-APPLE-STRUCTURED-LOCATION;VALUE=URI;X-ADDRESS=Indiana Immunization Coalition – Versailles 1154 South Ripley Estates Dr. Suite 1 Versailles 47042 United States;X-APPLE-RADIUS=500;X-TITLE=1154 South Ripley Estates Dr.\, Suite 1:geo:-85.2533476,39.0598946
END:VEVENT
BEGIN:VEVENT
DTSTART;TZID=America/Indiana/Indianapolis:20270118T090000
DTEND;TZID=America/Indiana/Indianapolis:20270118T150000
DTSTAMP:20260425T202110
CREATED:20251130T210641Z
LAST-MODIFIED:20260425T141020Z
UID:11249-1800262800-1800284400@vaccinateindiana.org
SUMMARY:IIC Versailles Clinic Hours
DESCRIPTION:
URL:https://vaccinateindiana.org/event/iic-versailles-clinic-hours-2/2027-01-18/
LOCATION:Indiana Immunization Coalition – Versailles\, 1154 South Ripley Estates Dr.\, Suite 1\, Versailles\, 47042\, United States
GEO:39.0598946;-85.2533476
X-APPLE-STRUCTURED-LOCATION;VALUE=URI;X-ADDRESS=Indiana Immunization Coalition – Versailles 1154 South Ripley Estates Dr. Suite 1 Versailles 47042 United States;X-APPLE-RADIUS=500;X-TITLE=1154 South Ripley Estates Dr.\, Suite 1:geo:-85.2533476,39.0598946
END:VEVENT
BEGIN:VEVENT
DTSTART;TZID=America/Indiana/Indianapolis:20270125T090000
DTEND;TZID=America/Indiana/Indianapolis:20270125T150000
DTSTAMP:20260425T202110
CREATED:20251130T210641Z
LAST-MODIFIED:20260425T141021Z
UID:11250-1800867600-1800889200@vaccinateindiana.org
SUMMARY:IIC Versailles Clinic Hours
DESCRIPTION:
URL:https://vaccinateindiana.org/event/iic-versailles-clinic-hours-2/2027-01-25/
LOCATION:Indiana Immunization Coalition – Versailles\, 1154 South Ripley Estates Dr.\, Suite 1\, Versailles\, 47042\, United States
GEO:39.0598946;-85.2533476
X-APPLE-STRUCTURED-LOCATION;VALUE=URI;X-ADDRESS=Indiana Immunization Coalition – Versailles 1154 South Ripley Estates Dr. Suite 1 Versailles 47042 United States;X-APPLE-RADIUS=500;X-TITLE=1154 South Ripley Estates Dr.\, Suite 1:geo:-85.2533476,39.0598946
END:VEVENT
BEGIN:VEVENT
DTSTART;TZID=America/Indiana/Indianapolis:20270201T090000
DTEND;TZID=America/Indiana/Indianapolis:20270201T180000
DTSTAMP:20260425T202110
CREATED:20260425T140936Z
LAST-MODIFIED:20260425T140936Z
UID:11363-1801472400-1801504800@vaccinateindiana.org
SUMMARY:IIC Versailles Clinic Hours
DESCRIPTION:
URL:https://vaccinateindiana.org/event/iic-versailles-clinic-hours-3/2027-02-01/
LOCATION:Indiana Immunization Coalition – Versailles\, 1154 South Ripley Estates Dr.\, Suite 1\, Versailles\, 47042\, United States
GEO:39.0598946;-85.2533476
X-APPLE-STRUCTURED-LOCATION;VALUE=URI;X-ADDRESS=Indiana Immunization Coalition – Versailles 1154 South Ripley Estates Dr. Suite 1 Versailles 47042 United States;X-APPLE-RADIUS=500;X-TITLE=1154 South Ripley Estates Dr.\, Suite 1:geo:-85.2533476,39.0598946
END:VEVENT
BEGIN:VEVENT
DTSTART;TZID=America/Indiana/Indianapolis:20270208T090000
DTEND;TZID=America/Indiana/Indianapolis:20270208T150000
DTSTAMP:20260425T202110
CREATED:20251130T210641Z
LAST-MODIFIED:20260425T141021Z
UID:11251-1802077200-1802098800@vaccinateindiana.org
SUMMARY:IIC Versailles Clinic Hours
DESCRIPTION:
URL:https://vaccinateindiana.org/event/iic-versailles-clinic-hours-2/2027-02-08/
LOCATION:Indiana Immunization Coalition – Versailles\, 1154 South Ripley Estates Dr.\, Suite 1\, Versailles\, 47042\, United States
GEO:39.0598946;-85.2533476
X-APPLE-STRUCTURED-LOCATION;VALUE=URI;X-ADDRESS=Indiana Immunization Coalition – Versailles 1154 South Ripley Estates Dr. Suite 1 Versailles 47042 United States;X-APPLE-RADIUS=500;X-TITLE=1154 South Ripley Estates Dr.\, Suite 1:geo:-85.2533476,39.0598946
END:VEVENT
BEGIN:VEVENT
DTSTART;TZID=America/Indiana/Indianapolis:20270215T090000
DTEND;TZID=America/Indiana/Indianapolis:20270215T150000
DTSTAMP:20260425T202110
CREATED:20251130T210641Z
LAST-MODIFIED:20260425T141021Z
UID:11252-1802682000-1802703600@vaccinateindiana.org
SUMMARY:IIC Versailles Clinic Hours
DESCRIPTION:
URL:https://vaccinateindiana.org/event/iic-versailles-clinic-hours-2/2027-02-15/
LOCATION:Indiana Immunization Coalition – Versailles\, 1154 South Ripley Estates Dr.\, Suite 1\, Versailles\, 47042\, United States
GEO:39.0598946;-85.2533476
X-APPLE-STRUCTURED-LOCATION;VALUE=URI;X-ADDRESS=Indiana Immunization Coalition – Versailles 1154 South Ripley Estates Dr. Suite 1 Versailles 47042 United States;X-APPLE-RADIUS=500;X-TITLE=1154 South Ripley Estates Dr.\, Suite 1:geo:-85.2533476,39.0598946
END:VEVENT
BEGIN:VEVENT
DTSTART;TZID=America/Indiana/Indianapolis:20270222T090000
DTEND;TZID=America/Indiana/Indianapolis:20270222T150000
DTSTAMP:20260425T202110
CREATED:20251130T210641Z
LAST-MODIFIED:20260425T141023Z
UID:11253-1803286800-1803308400@vaccinateindiana.org
SUMMARY:IIC Versailles Clinic Hours
DESCRIPTION:
URL:https://vaccinateindiana.org/event/iic-versailles-clinic-hours-2/2027-02-22/
LOCATION:Indiana Immunization Coalition – Versailles\, 1154 South Ripley Estates Dr.\, Suite 1\, Versailles\, 47042\, United States
GEO:39.0598946;-85.2533476
X-APPLE-STRUCTURED-LOCATION;VALUE=URI;X-ADDRESS=Indiana Immunization Coalition – Versailles 1154 South Ripley Estates Dr. Suite 1 Versailles 47042 United States;X-APPLE-RADIUS=500;X-TITLE=1154 South Ripley Estates Dr.\, Suite 1:geo:-85.2533476,39.0598946
END:VEVENT
BEGIN:VEVENT
DTSTART;TZID=America/Indiana/Indianapolis:20270301T090000
DTEND;TZID=America/Indiana/Indianapolis:20270301T180000
DTSTAMP:20260425T202110
CREATED:20260425T140936Z
LAST-MODIFIED:20260425T140936Z
UID:11364-1803891600-1803924000@vaccinateindiana.org
SUMMARY:IIC Versailles Clinic Hours
DESCRIPTION:
URL:https://vaccinateindiana.org/event/iic-versailles-clinic-hours-3/2027-03-01/
LOCATION:Indiana Immunization Coalition – Versailles\, 1154 South Ripley Estates Dr.\, Suite 1\, Versailles\, 47042\, United States
GEO:39.0598946;-85.2533476
X-APPLE-STRUCTURED-LOCATION;VALUE=URI;X-ADDRESS=Indiana Immunization Coalition – Versailles 1154 South Ripley Estates Dr. Suite 1 Versailles 47042 United States;X-APPLE-RADIUS=500;X-TITLE=1154 South Ripley Estates Dr.\, Suite 1:geo:-85.2533476,39.0598946
END:VEVENT
BEGIN:VEVENT
DTSTART;TZID=America/Indiana/Indianapolis:20270308T090000
DTEND;TZID=America/Indiana/Indianapolis:20270308T150000
DTSTAMP:20260425T202110
CREATED:20251130T210641Z
LAST-MODIFIED:20260425T141024Z
UID:11254-1804496400-1804518000@vaccinateindiana.org
SUMMARY:IIC Versailles Clinic Hours
DESCRIPTION:
URL:https://vaccinateindiana.org/event/iic-versailles-clinic-hours-2/2027-03-08/
LOCATION:Indiana Immunization Coalition – Versailles\, 1154 South Ripley Estates Dr.\, Suite 1\, Versailles\, 47042\, United States
GEO:39.0598946;-85.2533476
X-APPLE-STRUCTURED-LOCATION;VALUE=URI;X-ADDRESS=Indiana Immunization Coalition – Versailles 1154 South Ripley Estates Dr. Suite 1 Versailles 47042 United States;X-APPLE-RADIUS=500;X-TITLE=1154 South Ripley Estates Dr.\, Suite 1:geo:-85.2533476,39.0598946
END:VEVENT
BEGIN:VEVENT
DTSTART;TZID=America/Indiana/Indianapolis:20270315T090000
DTEND;TZID=America/Indiana/Indianapolis:20270315T150000
DTSTAMP:20260425T202110
CREATED:20251130T210641Z
LAST-MODIFIED:20260425T141024Z
UID:11255-1805101200-1805122800@vaccinateindiana.org
SUMMARY:IIC Versailles Clinic Hours
DESCRIPTION:
URL:https://vaccinateindiana.org/event/iic-versailles-clinic-hours-2/2027-03-15/
LOCATION:Indiana Immunization Coalition – Versailles\, 1154 South Ripley Estates Dr.\, Suite 1\, Versailles\, 47042\, United States
GEO:39.0598946;-85.2533476
X-APPLE-STRUCTURED-LOCATION;VALUE=URI;X-ADDRESS=Indiana Immunization Coalition – Versailles 1154 South Ripley Estates Dr. Suite 1 Versailles 47042 United States;X-APPLE-RADIUS=500;X-TITLE=1154 South Ripley Estates Dr.\, Suite 1:geo:-85.2533476,39.0598946
END:VEVENT
BEGIN:VEVENT
DTSTART;TZID=America/Indiana/Indianapolis:20270322T090000
DTEND;TZID=America/Indiana/Indianapolis:20270322T150000
DTSTAMP:20260425T202110
CREATED:20251130T210641Z
LAST-MODIFIED:20260425T141025Z
UID:11256-1805706000-1805727600@vaccinateindiana.org
SUMMARY:IIC Versailles Clinic Hours
DESCRIPTION:
URL:https://vaccinateindiana.org/event/iic-versailles-clinic-hours-2/2027-03-22/
LOCATION:Indiana Immunization Coalition – Versailles\, 1154 South Ripley Estates Dr.\, Suite 1\, Versailles\, 47042\, United States
GEO:39.0598946;-85.2533476
X-APPLE-STRUCTURED-LOCATION;VALUE=URI;X-ADDRESS=Indiana Immunization Coalition – Versailles 1154 South Ripley Estates Dr. Suite 1 Versailles 47042 United States;X-APPLE-RADIUS=500;X-TITLE=1154 South Ripley Estates Dr.\, Suite 1:geo:-85.2533476,39.0598946
END:VEVENT
BEGIN:VEVENT
DTSTART;TZID=America/Indiana/Indianapolis:20270329T090000
DTEND;TZID=America/Indiana/Indianapolis:20270329T150000
DTSTAMP:20260425T202110
CREATED:20251130T210641Z
LAST-MODIFIED:20260425T141026Z
UID:11257-1806310800-1806332400@vaccinateindiana.org
SUMMARY:IIC Versailles Clinic Hours
DESCRIPTION:
URL:https://vaccinateindiana.org/event/iic-versailles-clinic-hours-2/2027-03-29/
LOCATION:Indiana Immunization Coalition – Versailles\, 1154 South Ripley Estates Dr.\, Suite 1\, Versailles\, 47042\, United States
GEO:39.0598946;-85.2533476
X-APPLE-STRUCTURED-LOCATION;VALUE=URI;X-ADDRESS=Indiana Immunization Coalition – Versailles 1154 South Ripley Estates Dr. Suite 1 Versailles 47042 United States;X-APPLE-RADIUS=500;X-TITLE=1154 South Ripley Estates Dr.\, Suite 1:geo:-85.2533476,39.0598946
END:VEVENT
BEGIN:VEVENT
DTSTART;TZID=America/Indiana/Indianapolis:20270405T090000
DTEND;TZID=America/Indiana/Indianapolis:20270405T180000
DTSTAMP:20260425T202110
CREATED:20260425T140936Z
LAST-MODIFIED:20260425T140936Z
UID:11365-1806915600-1806948000@vaccinateindiana.org
SUMMARY:IIC Versailles Clinic Hours
DESCRIPTION:
URL:https://vaccinateindiana.org/event/iic-versailles-clinic-hours-3/2027-04-05/
LOCATION:Indiana Immunization Coalition – Versailles\, 1154 South Ripley Estates Dr.\, Suite 1\, Versailles\, 47042\, United States
GEO:39.0598946;-85.2533476
X-APPLE-STRUCTURED-LOCATION;VALUE=URI;X-ADDRESS=Indiana Immunization Coalition – Versailles 1154 South Ripley Estates Dr. Suite 1 Versailles 47042 United States;X-APPLE-RADIUS=500;X-TITLE=1154 South Ripley Estates Dr.\, Suite 1:geo:-85.2533476,39.0598946
END:VEVENT
BEGIN:VEVENT
DTSTART;TZID=America/Indiana/Indianapolis:20270412T090000
DTEND;TZID=America/Indiana/Indianapolis:20270412T150000
DTSTAMP:20260425T202110
CREATED:20251130T210641Z
LAST-MODIFIED:20260425T141026Z
UID:11258-1807520400-1807542000@vaccinateindiana.org
SUMMARY:IIC Versailles Clinic Hours
DESCRIPTION:
URL:https://vaccinateindiana.org/event/iic-versailles-clinic-hours-2/2027-04-12/
LOCATION:Indiana Immunization Coalition – Versailles\, 1154 South Ripley Estates Dr.\, Suite 1\, Versailles\, 47042\, United States
GEO:39.0598946;-85.2533476
X-APPLE-STRUCTURED-LOCATION;VALUE=URI;X-ADDRESS=Indiana Immunization Coalition – Versailles 1154 South Ripley Estates Dr. Suite 1 Versailles 47042 United States;X-APPLE-RADIUS=500;X-TITLE=1154 South Ripley Estates Dr.\, Suite 1:geo:-85.2533476,39.0598946
END:VEVENT
BEGIN:VEVENT
DTSTART;TZID=America/Indiana/Indianapolis:20270419T090000
DTEND;TZID=America/Indiana/Indianapolis:20270419T150000
DTSTAMP:20260425T202110
CREATED:20251130T210641Z
LAST-MODIFIED:20260425T141026Z
UID:11259-1808125200-1808146800@vaccinateindiana.org
SUMMARY:IIC Versailles Clinic Hours
DESCRIPTION:
URL:https://vaccinateindiana.org/event/iic-versailles-clinic-hours-2/2027-04-19/
LOCATION:Indiana Immunization Coalition – Versailles\, 1154 South Ripley Estates Dr.\, Suite 1\, Versailles\, 47042\, United States
GEO:39.0598946;-85.2533476
X-APPLE-STRUCTURED-LOCATION;VALUE=URI;X-ADDRESS=Indiana Immunization Coalition – Versailles 1154 South Ripley Estates Dr. Suite 1 Versailles 47042 United States;X-APPLE-RADIUS=500;X-TITLE=1154 South Ripley Estates Dr.\, Suite 1:geo:-85.2533476,39.0598946
END:VEVENT
BEGIN:VEVENT
DTSTART;TZID=America/Indiana/Indianapolis:20270426T090000
DTEND;TZID=America/Indiana/Indianapolis:20270426T150000
DTSTAMP:20260425T202110
CREATED:20251130T210641Z
LAST-MODIFIED:20260425T141027Z
UID:11260-1808730000-1808751600@vaccinateindiana.org
SUMMARY:IIC Versailles Clinic Hours
DESCRIPTION:
URL:https://vaccinateindiana.org/event/iic-versailles-clinic-hours-2/2027-04-26/
LOCATION:Indiana Immunization Coalition – Versailles\, 1154 South Ripley Estates Dr.\, Suite 1\, Versailles\, 47042\, United States
GEO:39.0598946;-85.2533476
X-APPLE-STRUCTURED-LOCATION;VALUE=URI;X-ADDRESS=Indiana Immunization Coalition – Versailles 1154 South Ripley Estates Dr. Suite 1 Versailles 47042 United States;X-APPLE-RADIUS=500;X-TITLE=1154 South Ripley Estates Dr.\, Suite 1:geo:-85.2533476,39.0598946
END:VEVENT
BEGIN:VEVENT
DTSTART;TZID=America/Indiana/Indianapolis:20270503T090000
DTEND;TZID=America/Indiana/Indianapolis:20270503T180000
DTSTAMP:20260425T202110
CREATED:20260425T140936Z
LAST-MODIFIED:20260425T140936Z
UID:11366-1809334800-1809367200@vaccinateindiana.org
SUMMARY:IIC Versailles Clinic Hours
DESCRIPTION:
URL:https://vaccinateindiana.org/event/iic-versailles-clinic-hours-3/2027-05-03/
LOCATION:Indiana Immunization Coalition – Versailles\, 1154 South Ripley Estates Dr.\, Suite 1\, Versailles\, 47042\, United States
GEO:39.0598946;-85.2533476
X-APPLE-STRUCTURED-LOCATION;VALUE=URI;X-ADDRESS=Indiana Immunization Coalition – Versailles 1154 South Ripley Estates Dr. Suite 1 Versailles 47042 United States;X-APPLE-RADIUS=500;X-TITLE=1154 South Ripley Estates Dr.\, Suite 1:geo:-85.2533476,39.0598946
END:VEVENT
END:VCALENDAR