BEGIN:VCALENDAR
VERSION:2.0
PRODID:-//Vaccinate Indiana - ECPv6.15.20//NONSGML v1.0//EN
CALSCALE:GREGORIAN
METHOD:PUBLISH
X-WR-CALNAME:Vaccinate Indiana
X-ORIGINAL-URL:https://vaccinateindiana.org
X-WR-CALDESC:Events for Vaccinate Indiana
REFRESH-INTERVAL;VALUE=DURATION:PT1H
X-Robots-Tag:noindex
X-PUBLISHED-TTL:PT1H
BEGIN:VTIMEZONE
TZID:America/Indiana/Indianapolis
BEGIN:DAYLIGHT
TZOFFSETFROM:-0500
TZOFFSETTO:-0400
TZNAME:EDT
DTSTART:20230312T070000
END:DAYLIGHT
BEGIN:STANDARD
TZOFFSETFROM:-0400
TZOFFSETTO:-0500
TZNAME:EST
DTSTART:20231105T060000
END:STANDARD
BEGIN:DAYLIGHT
TZOFFSETFROM:-0500
TZOFFSETTO:-0400
TZNAME:EDT
DTSTART:20240310T070000
END:DAYLIGHT
BEGIN:STANDARD
TZOFFSETFROM:-0400
TZOFFSETTO:-0500
TZNAME:EST
DTSTART:20241103T060000
END:STANDARD
BEGIN:DAYLIGHT
TZOFFSETFROM:-0500
TZOFFSETTO:-0400
TZNAME:EDT
DTSTART:20250309T070000
END:DAYLIGHT
BEGIN:STANDARD
TZOFFSETFROM:-0400
TZOFFSETTO:-0500
TZNAME:EST
DTSTART:20251102T060000
END:STANDARD
END:VTIMEZONE
BEGIN:VEVENT
DTSTART;TZID=America/Indiana/Indianapolis:20240521T150000
DTEND;TZID=America/Indiana/Indianapolis:20240521T180000
DTSTAMP:20260421T110752
CREATED:20240423T000329Z
LAST-MODIFIED:20240423T000329Z
UID:10137-1716303600-1716314400@vaccinateindiana.org
SUMMARY:Family Resource Center Elkhart
DESCRIPTION:
URL:https://vaccinateindiana.org/event/family-resource-center-elkhart/
LOCATION:Elkhart Family Resource Center\, 612 E Bristol St\, Elkhart\, IN 46514\, Elkhart\, IN\, 46514\, United States
GEO:41.702861;-85.969048
X-APPLE-STRUCTURED-LOCATION;VALUE=URI;X-ADDRESS=Elkhart Family Resource Center 612 E Bristol St Elkhart IN 46514 Elkhart IN 46514 United States;X-APPLE-RADIUS=500;X-TITLE=612 E Bristol St\, Elkhart\, IN 46514:geo:-85.969048,41.702861
END:VEVENT
END:VCALENDAR